BEGIN:VCALENDAR
VERSION:2.0
PRODID:-//ITE Canada - ECPv6.15.20//NONSGML v1.0//EN
CALSCALE:GREGORIAN
METHOD:PUBLISH
X-ORIGINAL-URL:https://www.itecanada.org
X-WR-CALDESC:Events for ITE Canada
REFRESH-INTERVAL;VALUE=DURATION:PT1H
X-Robots-Tag:noindex
X-PUBLISHED-TTL:PT1H
BEGIN:VTIMEZONE
TZID:America/Winnipeg
BEGIN:DAYLIGHT
TZOFFSETFROM:-0600
TZOFFSETTO:-0500
TZNAME:CDT
DTSTART:20220313T080000
END:DAYLIGHT
BEGIN:STANDARD
TZOFFSETFROM:-0500
TZOFFSETTO:-0600
TZNAME:CST
DTSTART:20221106T070000
END:STANDARD
BEGIN:DAYLIGHT
TZOFFSETFROM:-0600
TZOFFSETTO:-0500
TZNAME:CDT
DTSTART:20230312T080000
END:DAYLIGHT
BEGIN:STANDARD
TZOFFSETFROM:-0500
TZOFFSETTO:-0600
TZNAME:CST
DTSTART:20231105T070000
END:STANDARD
BEGIN:DAYLIGHT
TZOFFSETFROM:-0600
TZOFFSETTO:-0500
TZNAME:CDT
DTSTART:20240310T080000
END:DAYLIGHT
BEGIN:STANDARD
TZOFFSETFROM:-0500
TZOFFSETTO:-0600
TZNAME:CST
DTSTART:20241103T070000
END:STANDARD
END:VTIMEZONE
BEGIN:VTIMEZONE
TZID:America/Toronto
BEGIN:DAYLIGHT
TZOFFSETFROM:-0500
TZOFFSETTO:-0400
TZNAME:EDT
DTSTART:20220313T070000
END:DAYLIGHT
BEGIN:STANDARD
TZOFFSETFROM:-0400
TZOFFSETTO:-0500
TZNAME:EST
DTSTART:20221106T060000
END:STANDARD
BEGIN:DAYLIGHT
TZOFFSETFROM:-0500
TZOFFSETTO:-0400
TZNAME:EDT
DTSTART:20230312T070000
END:DAYLIGHT
BEGIN:STANDARD
TZOFFSETFROM:-0400
TZOFFSETTO:-0500
TZNAME:EST
DTSTART:20231105T060000
END:STANDARD
BEGIN:DAYLIGHT
TZOFFSETFROM:-0500
TZOFFSETTO:-0400
TZNAME:EDT
DTSTART:20240310T070000
END:DAYLIGHT
BEGIN:STANDARD
TZOFFSETFROM:-0400
TZOFFSETTO:-0500
TZNAME:EST
DTSTART:20241103T060000
END:STANDARD
END:VTIMEZONE
BEGIN:VEVENT
DTSTART;TZID=America/Winnipeg:20231207T120000
DTEND;TZID=America/Winnipeg:20231207T133000
DTSTAMP:20260424T043148
CREATED:20231129T165848Z
LAST-MODIFIED:20231129T184045Z
UID:10000631-1701950400-1701955800@www.itecanada.org
SUMMARY:ITE Manitoba: Annual Business Meeting
DESCRIPTION:ITE Manitoba will hold its December luncheon and 2023 Annual Business Meeting (ABM) on Thursday December 7th\, from 12:00 to 1:30 pm (CST) at the Winnipeg Winter Club. \nLocation: Winnipeg Winter Club\, 200 River Ave\, Riverview Room (second floor)\nCost: $32 regular\, $16 student (tax included) \nPresentation: Winnipeg’s Moving on Marion Project\nDavid Wiebe from Dillon Consulting and Damir Muhurdarevic from the City of Winnipeg will co-present on the City of Winnipeg’s Moving on Marion project. \nManitoba Section Officer Election\nThis year\, the Manitoba Section received two nominations for the new position of treasurer. Results of the election will be announced by email in advance of the ABM and again at the ABM\, welcoming the successful nominee to the executive for 2024. \n 
URL:https://www.itecanada.org/event/ite-manitoba-annual-business-meeting/
LOCATION:Winnipeg Winter Club\, 200 River Avenue\, Winnipeg\, Manitoba\, R3L 0B2\, Canada
CATEGORIES:AGM,Presentation
ORGANIZER;CN="ITE Manitoba Section":MAILTO:secretary@manitoba.itecanada.org
GEO:49.882303;-97.136199
X-APPLE-STRUCTURED-LOCATION;VALUE=URI;X-ADDRESS=Winnipeg Winter Club 200 River Avenue Winnipeg Manitoba R3L 0B2 Canada;X-APPLE-RADIUS=500;X-TITLE=200 River Avenue:geo:-97.136199,49.882303
END:VEVENT
BEGIN:VEVENT
DTSTART;TZID=America/Toronto:20231213T140000
DTEND;TZID=America/Toronto:20231213T150000
DTSTAMP:20260424T043148
CREATED:20230918T184536Z
LAST-MODIFIED:20231207T181606Z
UID:10000606-1702476000-1702479600@www.itecanada.org
SUMMARY:ITE Canada: Annual General Meeting (virtual)
DESCRIPTION:Please join us for ITE Canada Annual General Meeting. This virtual meeting will take place Wednesday\, December 13 at 2 pm Eastern / 11 am Pacific. All Canadian District Members of ITE are welcome to attend. Note that only non-student members are permitted to vote on motions at the meeting. \nThis is a virtual event. Please click the RSVP below to register. Your ITE membership number is required to register. \nThe agenda and associated materials\, including the 2023 Financial Statements and 2022-2023 Annual Report\, as well as a proxy voting form are available to download at itecanada.org/annual-general-meeting-2023\n\nJoin Virtual Event:\nhttps://teams.microsoft.com/l/meetup-join/19%3ameeting_OTkzODI1MGMtNWFmYy00MmRlLWFiZTQtMmUxYTAwNmUxNzA2%40thread.v2/0?context=%7b%22Tid%22%3a%22875688ea-8b21-4b98-b25b-4b81851ad72d%22%2c%22Oid%22%3a%224a3ba1e2-3eaf-46fd-a2aa-5dc1b59160ca%22%7d\n
URL:https://www.itecanada.org/event/ite-canada-annual-general-meeting-virtual-2023/
LOCATION:Ottawa Area (Virtual)\, Ottawa\, ON\, Canada
CATEGORIES:AGM,Virtual
ATTACH;FMTTYPE=image/jpeg:https://www.itecanada.org/wp-content/uploads/2023/09/Social-Post-Event-Banner-AGM.jpg
ORGANIZER;CN="ITE Canada":MAILTO:admin@itecanada.org
GEO:45.448628;-75.654714
X-ALT-DESC;FMTTYPE=text/html: <b><a href="https://teams.microsoft.com/l/meetup-join/19%3ameeting_OTkzODI1MGMtNWFmYy00MmRlLWFiZTQtMmUxYTAwNmUxNzA2%40thread.v2/0?context=%7b%22Tid%22%3a%22875688ea-8b21-4b98-b25b-4b81851ad72d%22%2c%22Oid%22%3a%224a3ba1e2-3eaf-46fd-a2aa-5dc1b59160ca%22%7d">Join Virtual Event</a></b><br/><br/><div>DESCRIPTION:Please join us for ITE Canada Annual General Meeting. This virtual meeting will take place Wednesday\, December 13 at 2 pm Eastern / 11 am Pacific. All Canadian District Members of ITE are welcome to attend. Note that only non-student members are permitted to vote on motions at the meeting. \nThis is a virtual event. Please click the RSVP below to register. Your ITE membership number is required to register. \nThe agenda and associated materials\, including the 2023 Financial Statements and 2022-2023 Annual Report\, as well as a proxy voting form are available to download at itecanada.org/annual-general-meeting-2023
END:VEVENT
BEGIN:VEVENT
DTSTART;TZID=America/Toronto:20231214T110000
DTEND;TZID=America/Toronto:20231214T140000
DTSTAMP:20260424T043148
CREATED:20231116T165109Z
LAST-MODIFIED:20231213T134638Z
UID:10000627-1702551600-1702562400@www.itecanada.org
SUMMARY:ITE Toronto: Christmas Luncheon & AGM
DESCRIPTION:Join us for our annual Christmas Luncheon and AGM! \nGold Level Sponsorship ($500): Sponsors are invited to bring a roll-up board with banner stand (24″ to 33″ x80″) to promote their transportation services. The company’s logo will be included in the luncheon presentation and the company will be recognized verbally in the proceedings. One free individual member registration is included with this sponsorship. \nSilver Level Sponsorship ($300): The company’s logo will be included in the luncheon presentation and the company will recognized verbally in the proceedings. \nKeynote Speaker: Inderjit Hans\, P.Eng.\, PMP\nCommissioner\, Public Works Commission \nTopic: Brantford on Track: Paving the Way for GO Rail Extension \nInderjit Hans is the Commissioner of Public Works at the City of Brantford and oversees all departments including Engineering\, Operations\, Environmental\, Parks and Recreation\, Fleet and Transit\, and Business Support and Sustainability. Inderjit has over 15 years of municipal experience and has held his role in Brantford for 5 years and previously to that worked for the City of Brampton. Inderjit is a graduate of the University of Toronto Engineering program and holds a professional engineering licence with the PEO and is a project management professional designation from PMI.
URL:https://www.itecanada.org/event/ite-toronto-christmas-luncheon-agm-2/
LOCATION:York University – Second Student Centre\, York\, ON\, M3J 2S5\, Canada
CATEGORIES:AGM,Luncheon
ORGANIZER;CN="ITE Toronto Section":MAILTO:activities@toronto.itecanada.org
GEO:43.771541563251;-79.5035118338
END:VEVENT
END:VCALENDAR