BEGIN:VCALENDAR
VERSION:2.0
PRODID:-//ITE Canada - ECPv6.15.20//NONSGML v1.0//EN
CALSCALE:GREGORIAN
METHOD:PUBLISH
X-ORIGINAL-URL:https://www.itecanada.org
X-WR-CALDESC:Events for ITE Canada
REFRESH-INTERVAL;VALUE=DURATION:PT1H
X-Robots-Tag:noindex
X-PUBLISHED-TTL:PT1H
BEGIN:VTIMEZONE
TZID:America/Toronto
BEGIN:DAYLIGHT
TZOFFSETFROM:-0500
TZOFFSETTO:-0400
TZNAME:EDT
DTSTART:20240310T070000
END:DAYLIGHT
BEGIN:STANDARD
TZOFFSETFROM:-0400
TZOFFSETTO:-0500
TZNAME:EST
DTSTART:20241103T060000
END:STANDARD
BEGIN:DAYLIGHT
TZOFFSETFROM:-0500
TZOFFSETTO:-0400
TZNAME:EDT
DTSTART:20250309T070000
END:DAYLIGHT
BEGIN:STANDARD
TZOFFSETFROM:-0400
TZOFFSETTO:-0500
TZNAME:EST
DTSTART:20251102T060000
END:STANDARD
BEGIN:DAYLIGHT
TZOFFSETFROM:-0500
TZOFFSETTO:-0400
TZNAME:EDT
DTSTART:20260308T070000
END:DAYLIGHT
BEGIN:STANDARD
TZOFFSETFROM:-0400
TZOFFSETTO:-0500
TZNAME:EST
DTSTART:20261101T060000
END:STANDARD
END:VTIMEZONE
BEGIN:VTIMEZONE
TZID:America/Winnipeg
BEGIN:DAYLIGHT
TZOFFSETFROM:-0600
TZOFFSETTO:-0500
TZNAME:CDT
DTSTART:20240310T080000
END:DAYLIGHT
BEGIN:STANDARD
TZOFFSETFROM:-0500
TZOFFSETTO:-0600
TZNAME:CST
DTSTART:20241103T070000
END:STANDARD
BEGIN:DAYLIGHT
TZOFFSETFROM:-0600
TZOFFSETTO:-0500
TZNAME:CDT
DTSTART:20250309T080000
END:DAYLIGHT
BEGIN:STANDARD
TZOFFSETFROM:-0500
TZOFFSETTO:-0600
TZNAME:CST
DTSTART:20251102T070000
END:STANDARD
BEGIN:DAYLIGHT
TZOFFSETFROM:-0600
TZOFFSETTO:-0500
TZNAME:CDT
DTSTART:20260308T080000
END:DAYLIGHT
BEGIN:STANDARD
TZOFFSETFROM:-0500
TZOFFSETTO:-0600
TZNAME:CST
DTSTART:20261101T070000
END:STANDARD
END:VTIMEZONE
BEGIN:VEVENT
DTSTART;TZID=America/Toronto:20251204T080000
DTEND;TZID=America/Toronto:20251204T110000
DTSTAMP:20260423T021011
CREATED:20251119T173608Z
LAST-MODIFIED:20251126T190923Z
UID:10000838-1764835200-1764846000@www.itecanada.org
SUMMARY:ITE Hamilton Section AGM\, Breakfast and Networking Event
DESCRIPTION:Join Us for the 2025 ITE Hamilton Section Annual General Meeting!\nDate and Time: December 4\, 2025\, 8:00-11:00 a.m. \nLocation: Waterfront Banquet & Conference Centre\, 555 Bay Street North\, Hamilton\, ON \n==Ticket sales will close December 2\, end of day== \nJoin us for the 2025 ITE Hamilton Section Annual General Meeting\, where breakfast and networking will set the stage for a productive morning. In addition to the AGM\, attendees will hear a keynote presentation on meaningful stakeholder and Indigenous engagement\, and will have the opportunity to explore a student poster session showcasing cutting‑edge research on post‑pandemic transit trends. This blend of nourishment\, connection\, and insightful content makes this morning an unmissable event for anyone invested in Hamilton’s transportation future. \nKeynote Presentation: Meaningful Stakeholder & Indigenous Engagement in Class EA’s \nAndrew McGregor: An Associate of RV Anderson Associates\, Andrew is a Senior Planner and Project Manager with extensive experience in managing environmental assessments (EAs) and obtaining approvals for transportation and municipal infrastructure projects. As an EA practitioner for over 20 years\, Andrew has gained significant knowledge and experience in effective communication with stakeholders\, Indigenous communities\, and technical agencies. Through the application of various approaches to community engagement\, Andrew has helped secure approvals for municipal\, provincial\, and federal projects\, particularly in the field of transportation. Andrew is well versed with environmental and planning legislation including the Ontario Environmental Assessment Act\, Impact Assessment Act\, the Ontario Environmental Protection Act\, and the Planning Act. \n  \nPoster Session: Interplay between Teleworking and Transit Usage of Commuters: Impact of COVID-19 on Future Transit Ridership in Canada \nSadia Chowdhury: 4th year PhD candidate at the Transportation Research Lab\, McMaster University\, and a student intern partnered with the City of Hamilton. As a transit nerd\, Sadia is curious about how to create a transit-friendly community. Her research explores the changes in transit usage in Canada throughout the pandemic\, with an emphasis on the changes in transit pass ownership\, transit usage frequency\, and mode substitution behavior.
URL:https://www.itecanada.org/event/ite-hamilton-section-agm-breakfast-and-networking-event/
LOCATION:Waterfront Banquet & Conference Centre\, 555 Bay Street North\, Hamilton\, Ontario\, L8L 1H1\, Canada
CATEGORIES:AGM,Breakfast,Presentation
ATTACH;FMTTYPE=image/png:https://www.itecanada.org/wp-content/uploads/2025/11/ITE-Hamilton-Spring-Speaker-Breakfast-and-Networking-Event-min.png
ORGANIZER;CN="ITE Hamilton Section":MAILTO:hamilton@itecanada.org
GEO:43.2741708;-79.8641879
X-APPLE-STRUCTURED-LOCATION;VALUE=URI;X-ADDRESS=Waterfront Banquet & Conference Centre 555 Bay Street North Hamilton Ontario L8L 1H1 Canada;X-APPLE-RADIUS=500;X-TITLE=555 Bay Street North:geo:-79.8641879,43.2741708
END:VEVENT
BEGIN:VEVENT
DTSTART;TZID=America/Toronto:20251204T120000
DTEND;TZID=America/Toronto:20251204T150000
DTSTAMP:20260423T021011
CREATED:20251113T212257Z
LAST-MODIFIED:20251204T032024Z
UID:10000837-1764849600-1764860400@www.itecanada.org
SUMMARY:ITE Toronto Section: 2025 Christmas Luncheon and AGM
DESCRIPTION:We are excited to invite you to the 2025 ITE Toronto Christmas Luncheon and AGM at 12:00pm on Thursday\, December 4th\, 2025 at the Granite Brewery & Tied House. The event will start with a networking hour and introductions followed by a buffet lunch and speaker presentations (see below). The AGM and presentation of ITE Toronto Awards will immediately follow the speaker presentations. We look forward to celebrating with you! \nDon’t miss this opportunity to connect with fellow professionals and celebrate ITE Toronto\, while gaining insights in transportation and urban planning. Please feel free to reach out if you have any questions; we look forward to seeing you there! \nDate: Thursday\, December 4th\, 2025\nTime: 12pm–3 pm EST\nLocation: Granite Brewery & Tied House\, 245 Eglinton Ave. E\, Toronto\, ON M4P 3B7 \n==Ticket sales for this event end on December 4th\, 2025 == \nSchedule \n\n12:00 pm — Check-in & Networking\n1:00 pm — Introductions & Lunch\n1:30 pm — Keynote Presentation\n2:30 pm — AGM & Awards \n\n Watch this space – more information to be posted shortly!  \nTransit and Parking \nGranite Brewery & Tied House is located 750 metres (approximately 8-minute walk) from Eglinton Station on Line 1 (Yonge-Bloor). \nFree parking is available on site\, accessed via Mount Pleasant Road\, south of Eglinton Avenue. \nSponsorships \nThe following event sponsorships are available: \n\nGold Level Sponsorship ($500): Sponsors are invited to bring a roll-up board with banner stand (24″ to 33″ x80″) to promote their transportation services. The company’s logo will be included in the luncheon presentation and the company will be recognized verbally in the proceedings. One free individual member registration is included with this sponsorship.\nSilver Level Sponsorship ($300): The company’s logo will be included in the luncheon presentation and the company will recognized verbally in the proceedings.\n\nPRESENTERS \nTitle: Technical Solutions in a Political Environment with Barbara Gray \nAs the recently retired General Manager of Transportation Services\, Barbara Gray has always been motivated by her commitment to people\, equity and innovation. She joined the City of Toronto in late 2016 and while at the City successfully led her team to improve neighborhoods through complete streets investment\, improved service delivery and renewed key delivery plans focused on managing congestion\, improving safety for all road users and completing an overhaul of Winter Service delivery. Barbara was also the Executive Sponsor for the Toronto Network of Women (TOnow)\, inspiring and empowering over 2\,000 members to enhance their personal and professional development through mentorship and engagement.\nPrior to joining the City of Toronto\, Barbara had numerous leadership roles at the Seattle Department of Transportation and is most proud of her work with elected and public sector leaders to change the culture of the public service centered on the powerful mission of supporting equity\, diversity and inclusion. \n  \nTitle: City of Toronto – Congestion Management Plan Primer\n \nRoger Browne is the Director of Congestion and Network Management in the City of Toronto. He is passionate about traffic management and synthesizes his knowledge of traffic operations fundamentals with Intelligent Transportation Systems (ITS) to tackle traffic congestion. In his current role he is responsible for developing and enacting the Congestion Management Plan\, which seeks to address congestion in the City of Toronto by working with public and private partners to development innovative solutions. Roger’s background includes traffic operations\, ITS\, Vision Zero\, and data management in both the private and public sectors. He has shared his knowledge teaching transportation engineering part-time at McMaster University. \n  \n 
URL:https://www.itecanada.org/event/ite-toronto-section-2025-christmas-luncheon-and-agm/
LOCATION:Granite Brewery & Tied House\, 245 Eglinton Ave. E.\, Toronto\, ON\, M4P 3B7\, Canada
CATEGORIES:AGM,Luncheon,Mixer
ORGANIZER;CN="ITE Toronto Section":MAILTO:activities@toronto.itecanada.org
END:VEVENT
BEGIN:VEVENT
DTSTART;TZID=America/Toronto:20251211T140000
DTEND;TZID=America/Toronto:20251211T150000
DTSTAMP:20260423T021011
CREATED:20250911T203126Z
LAST-MODIFIED:20251113T144558Z
UID:10000806-1765461600-1765465200@www.itecanada.org
SUMMARY:ITE Canada District: 2025 Annual General Meeting (virtual)
DESCRIPTION:Please join us for ITE Canada District Annual General Meeting (AGM). This virtual meeting will take place Thursday\, December 11\, 2025. \nAll Canadian Members of ITE are welcome to attend. Note that only non-student members will be permitted to vote on motions at the meeting. \nPlease click the RSVP below to register. Your ITE membership number is required to register. \nThe agenda and associated materials as well as a proxy voting form will be available to download here. \n \n\nJoin Virtual Event:\nhttps://teams.microsoft.com/l/meetup-join/19%3ameeting_NzM5MGYxMmItYTczYy00NjZiLThlMTctMTIyNDZhZmU1ZjAw%40thread.v2/0?context=%7b%22Tid%22%3a%22875688ea-8b21-4b98-b25b-4b81851ad72d%22%2c%22Oid%22%3a%224a3ba1e2-3eaf-46fd-a2aa-5dc1b59160ca%22%7d\n
URL:https://www.itecanada.org/event/ite-canada-2025-agm/
LOCATION:Ottawa Area (Virtual)\, Ottawa\, ON\, Canada
CATEGORIES:AGM,Virtual
ATTACH;FMTTYPE=image/jpeg:https://www.itecanada.org/wp-content/uploads/2025/09/AGM.jpg
ORGANIZER;CN="ITE Canada":MAILTO:admin@itecanada.org
GEO:45.448628;-75.654714
X-ALT-DESC;FMTTYPE=text/html: <b><a href="https://teams.microsoft.com/l/meetup-join/19%3ameeting_NzM5MGYxMmItYTczYy00NjZiLThlMTctMTIyNDZhZmU1ZjAw%40thread.v2/0?context=%7b%22Tid%22%3a%22875688ea-8b21-4b98-b25b-4b81851ad72d%22%2c%22Oid%22%3a%224a3ba1e2-3eaf-46fd-a2aa-5dc1b59160ca%22%7d">Join Virtual Event</a></b><br/><br/><div>DESCRIPTION:Please join us for ITE Canada District Annual General Meeting (AGM). This virtual meeting will take place Thursday\, December 11\, 2025. \nAll Canadian Members of ITE are welcome to attend. Note that only non-student members will be permitted to vote on motions at the meeting. \nPlease click the RSVP below to register. Your ITE membership number is required to register. \nThe agenda and associated materials as well as a proxy voting form will be available to download here. \n 
END:VEVENT
BEGIN:VEVENT
DTSTART;TZID=America/Winnipeg:20251216T120000
DTEND;TZID=America/Winnipeg:20251216T140000
DTSTAMP:20260423T021011
CREATED:20251202T215650Z
LAST-MODIFIED:20251202T215650Z
UID:10000839-1765886400-1765893600@www.itecanada.org
SUMMARY:ITE Manitoba Section: Luncheon & AGM - December 2025
DESCRIPTION:Join the ITE Manitoba Section for their Luncheon on Tuesday\, December 16\, 2025 at Trans Canada Brewing! \nDenae Penner and Amanda Pushka from the City of Winnipeg’s Road Safety Branch will be presenting. Lunch will be provided. \nEvent Details\nDate:    Tuesday\, December 16\, 2025\nTime:   12:00pm to 1:45 pm CST\nLocation: Trans Canada Brewing\, 1-1290 Kenaston Blvd\, Winnipeg\, MB R3P 2H8 \nCost:  \n\n$30 for non-ITE members\n$25 for ITE members\n $15 for students\n\n**Registration will close on Tuesday\, December 9\, at 3pm.** \nPlease note\, to register for the reduced ITE member rate\, your ITE membership should be valid for 2025. \nFood: Catering will be provided by the TCB Kitchen! Please let us know in your registration if you have any dietary restrictions. \nPresentation Details\nTitle: Traffic Calming (TCB) Curbs; A Pilot Story \nSpeakers: Amanda Pushka\, P. Eng\, and Denae Penner \nAmanda Pushka is Road Safety Engineer and certified Road Safety Professional with nine years of experience in transportation engineering. She brings international expertise in conducting road safety audits and developing active transportation designs\, applying a Safe System approach to assess road user risk and recommend targeted safety countermeasures. At the City of Winnipeg\, Amanda leads the implementation of the city’s Road Safety Strategic Action Plan.\n\nDenae Penner is a road safety professional specializing in public engagement\, education\, and outreach. Denae works at the City of Winnipeg as a Road Safety Outreach Coordinator. Throughout her career\, Denae has applied community development approaches to a range of projects to enhance access and equity within transportation systems. Her goal is to help build a city where people of all ages\, genders and abilities can get where they want to go\, and do it safely.
URL:https://www.itecanada.org/event/ite-manitoba-section-luncheon-agm-december-2025/
LOCATION:Trans Canada Brewing\, 1290 Kenaston Blvd #1\, Winnipeg\, Manitoba\, R3P 2H8\, Canada
CATEGORIES:AGM,Luncheon
ORGANIZER;CN="ITE Manitoba Section":MAILTO:secretary@manitoba.itecanada.org
END:VEVENT
BEGIN:VEVENT
DTSTART;TZID=America/Toronto:20251219T120000
DTEND;TZID=America/Toronto:20251219T133000
DTSTAMP:20260423T021011
CREATED:20251203T155640Z
LAST-MODIFIED:20251218T193451Z
UID:10000840-1766145600-1766151000@www.itecanada.org
SUMMARY:ITE National Capital Section: 2025 Annual General Meeting
DESCRIPTION:  \n\nThe ITE National Capital Section would like to invite you to our Annual General Meeting (AGM)! \nThe AGM will close-out our activities for 2025 with a year-end review of the 2025 Annual Report and assignment of our 2026 Executive committee. \n\nDATE: December 19\, 2025 \nTIME: **UPDATED TO 12:00 PM START** – 1:30 PM \nLOCATION: Milestones Grill & Bar\, Lansdowne Park\, Ottawa\, ON \nSee other details and agenda in the poster above. Note that lunch is not included in your RSVP. \n==Admission is free but registration is required==
URL:https://www.itecanada.org/event/ite-national-capital-section-2025-annual-general-meeting/
LOCATION:Milestones Grill – Ottawa\, 325 Marché Way\, Ottawa\, Ontario\, Canada
CATEGORIES:AGM,Luncheon
ORGANIZER;CN="ITE National Capital Section":MAILTO:nationalcapital@itecanada.org
GEO:45.400646;-75.683835
X-APPLE-STRUCTURED-LOCATION;VALUE=URI;X-ADDRESS=DESCRIPTION:  \n\nThe ITE National Capital Section would like to invite you to our Annual General Meeting (AGM)! \nThe AGM will close-out our activities for 2025 with a year-end review of the 2025 Annual Report and assignment of our 2026 Executive committee. \n\nDATE: December 19 2025 \nTIME: **UPDATED TO 12:00 PM START** – 1:30 PM \n Milestones Grill & Bar Lansdowne Park Ottawa ON \nSee other details and agenda in the poster above. Note that lunch is not included in your RSVP. \n==Admission is free but registration is required==;X-APPLE-RADIUS=500;X-TITLE=325 Marché Way:geo:-75.683835,45.400646
END:VEVENT
END:VCALENDAR