BEGIN:VCALENDAR
VERSION:2.0
PRODID:-//ITE Canada - ECPv6.15.20//NONSGML v1.0//EN
CALSCALE:GREGORIAN
METHOD:PUBLISH
X-ORIGINAL-URL:https://www.itecanada.org
X-WR-CALDESC:Events for ITE Canada
REFRESH-INTERVAL;VALUE=DURATION:PT1H
X-Robots-Tag:noindex
X-PUBLISHED-TTL:PT1H
BEGIN:VTIMEZONE
TZID:America/Edmonton
BEGIN:DAYLIGHT
TZOFFSETFROM:-0700
TZOFFSETTO:-0600
TZNAME:MDT
DTSTART:20240310T090000
END:DAYLIGHT
BEGIN:STANDARD
TZOFFSETFROM:-0600
TZOFFSETTO:-0700
TZNAME:MST
DTSTART:20241103T080000
END:STANDARD
BEGIN:DAYLIGHT
TZOFFSETFROM:-0700
TZOFFSETTO:-0600
TZNAME:MDT
DTSTART:20250309T090000
END:DAYLIGHT
BEGIN:STANDARD
TZOFFSETFROM:-0600
TZOFFSETTO:-0700
TZNAME:MST
DTSTART:20251102T080000
END:STANDARD
BEGIN:DAYLIGHT
TZOFFSETFROM:-0700
TZOFFSETTO:-0600
TZNAME:MDT
DTSTART:20260308T090000
END:DAYLIGHT
BEGIN:STANDARD
TZOFFSETFROM:-0600
TZOFFSETTO:-0700
TZNAME:MST
DTSTART:20261101T080000
END:STANDARD
END:VTIMEZONE
BEGIN:VTIMEZONE
TZID:America/Toronto
BEGIN:DAYLIGHT
TZOFFSETFROM:-0500
TZOFFSETTO:-0400
TZNAME:EDT
DTSTART:20240310T070000
END:DAYLIGHT
BEGIN:STANDARD
TZOFFSETFROM:-0400
TZOFFSETTO:-0500
TZNAME:EST
DTSTART:20241103T060000
END:STANDARD
BEGIN:DAYLIGHT
TZOFFSETFROM:-0500
TZOFFSETTO:-0400
TZNAME:EDT
DTSTART:20250309T070000
END:DAYLIGHT
BEGIN:STANDARD
TZOFFSETFROM:-0400
TZOFFSETTO:-0500
TZNAME:EST
DTSTART:20251102T060000
END:STANDARD
BEGIN:DAYLIGHT
TZOFFSETFROM:-0500
TZOFFSETTO:-0400
TZNAME:EDT
DTSTART:20260308T070000
END:DAYLIGHT
BEGIN:STANDARD
TZOFFSETFROM:-0400
TZOFFSETTO:-0500
TZNAME:EST
DTSTART:20261101T060000
END:STANDARD
END:VTIMEZONE
BEGIN:VTIMEZONE
TZID:America/Halifax
BEGIN:DAYLIGHT
TZOFFSETFROM:-0400
TZOFFSETTO:-0300
TZNAME:ADT
DTSTART:20240310T060000
END:DAYLIGHT
BEGIN:STANDARD
TZOFFSETFROM:-0300
TZOFFSETTO:-0400
TZNAME:AST
DTSTART:20241103T050000
END:STANDARD
BEGIN:DAYLIGHT
TZOFFSETFROM:-0400
TZOFFSETTO:-0300
TZNAME:ADT
DTSTART:20250309T060000
END:DAYLIGHT
BEGIN:STANDARD
TZOFFSETFROM:-0300
TZOFFSETTO:-0400
TZNAME:AST
DTSTART:20251102T050000
END:STANDARD
BEGIN:DAYLIGHT
TZOFFSETFROM:-0400
TZOFFSETTO:-0300
TZNAME:ADT
DTSTART:20260308T060000
END:DAYLIGHT
BEGIN:STANDARD
TZOFFSETFROM:-0300
TZOFFSETTO:-0400
TZNAME:AST
DTSTART:20261101T050000
END:STANDARD
END:VTIMEZONE
BEGIN:VTIMEZONE
TZID:America/Vancouver
BEGIN:DAYLIGHT
TZOFFSETFROM:-0800
TZOFFSETTO:-0700
TZNAME:PDT
DTSTART:20240310T100000
END:DAYLIGHT
BEGIN:STANDARD
TZOFFSETFROM:-0700
TZOFFSETTO:-0800
TZNAME:PST
DTSTART:20241103T090000
END:STANDARD
BEGIN:DAYLIGHT
TZOFFSETFROM:-0800
TZOFFSETTO:-0700
TZNAME:PDT
DTSTART:20250309T100000
END:DAYLIGHT
BEGIN:STANDARD
TZOFFSETFROM:-0700
TZOFFSETTO:-0800
TZNAME:PST
DTSTART:20251102T090000
END:STANDARD
BEGIN:DAYLIGHT
TZOFFSETFROM:-0800
TZOFFSETTO:-0700
TZNAME:PDT
DTSTART:20260308T100000
END:DAYLIGHT
BEGIN:STANDARD
TZOFFSETFROM:-0700
TZOFFSETTO:-0800
TZNAME:PST
DTSTART:20261101T090000
END:STANDARD
END:VTIMEZONE
BEGIN:VTIMEZONE
TZID:America/Winnipeg
BEGIN:DAYLIGHT
TZOFFSETFROM:-0600
TZOFFSETTO:-0500
TZNAME:CDT
DTSTART:20240310T080000
END:DAYLIGHT
BEGIN:STANDARD
TZOFFSETFROM:-0500
TZOFFSETTO:-0600
TZNAME:CST
DTSTART:20241103T070000
END:STANDARD
BEGIN:DAYLIGHT
TZOFFSETFROM:-0600
TZOFFSETTO:-0500
TZNAME:CDT
DTSTART:20250309T080000
END:DAYLIGHT
BEGIN:STANDARD
TZOFFSETFROM:-0500
TZOFFSETTO:-0600
TZNAME:CST
DTSTART:20251102T070000
END:STANDARD
BEGIN:DAYLIGHT
TZOFFSETFROM:-0600
TZOFFSETTO:-0500
TZNAME:CDT
DTSTART:20260308T080000
END:DAYLIGHT
BEGIN:STANDARD
TZOFFSETFROM:-0500
TZOFFSETTO:-0600
TZNAME:CST
DTSTART:20261101T070000
END:STANDARD
END:VTIMEZONE
BEGIN:VEVENT
DTSTART;TZID=America/Edmonton:20251105T114500
DTEND;TZID=America/Edmonton:20251105T130000
DTSTAMP:20260423T034050
CREATED:20251021T215322Z
LAST-MODIFIED:20251023T184459Z
UID:10000821-1762343100-1762347600@www.itecanada.org
SUMMARY:ITE Northern Alberta: November 2025 Luncheon
DESCRIPTION:Lac La Biche Main Street Revitalization:  Navigating Planning\, Design\, and Construction Challenges\nJoin the ITE Northern Alberta section on November 5\, 2025 for a presentation on this topic. \nV3 Companies of Canada partnered with Lac La Biche County to revitalize Main Street within the Hamlet of Lac La Biche\, with an aim to enhance livability\, support local businesses\, and create a more attractive public realm. Located within a provincial highway right-of-way\, the project required thoughtful planning\, extensive community engagement\, infrastructure upgrades\, and unique urban design elements to enhance the character of the community. V3 led engagement efforts with business owners\, residents\, and County administration and elected officials to ensure the revitalization reflected local needs and architectural context.  Streetscape improvements included boulevard trees\, landscape beds\, soil cells\, entrance columns\, outdoor speakers\, decorative lighting\, and traffic calming features to create a welcoming and vibrant corridor.  The project included the replacement and rehabilitation of underground utilities to address aging deep infrastructure; and curb\, sidewalk and asphalt installation to improve pedestrian safety and vehicular access. \nThis presentation will explore the challenges encountered and the successful navigation of those challenges during the planning\, design\, and construction stages of this vital community project. \nDATE:  Wednesday\, November 5\, 2025 \nTIME:  11:45am – 1:00pm \nLOCATION:  The University Club\, University of Alberta\, 11435 Saskatchewan Dr. NW\, Edmonton\, AB T6G 2G9 \n  \nAbout the Presenters:\nSean Snowden\, P.Eng.\,PMP\, Transportation and Municipal Engineering Group Leader \n \nSean is a leader in municipal and transportation engineering. With 26 years of engineering consulting experience and a Platinum Jubilee Medal for public service\, Sean provides servant leadership to V3’s Transportation and Municipal Engineering Group with integrity and technical excellence. He provides corporate oversight\, quality assurance\, technical advice\, and strategic guidance across municipal and government infrastructure projects. His leadership has shaped award-winning projects and includes roadways\, municipal improvements\, and capital programs. \nSean has undertaken numerous projects in Lac La Biche County\, including Old Trail Reconstruction\, the Rural Road Capital Program\, and the development of the General Municipal Servicing Standards.  Sean provided corporate support\, leadership\, and advice to the Main Street Revitalization construction team and construction on the project was successfully completed this fall. \nNick Pryce\, RPP\, MCIP\, Vice-President – Planning Group Leader \n \nNick Pryce is an influencer in urban & regional planning at V3\, serving as Vice President and Planning Group Leader. He leads policy development\, project approvals\, and implementation strategies with a focus on economic development\, urban design\, and sustainability. His work supports communities through multi-modal transportation planning\, evidence-based decision-making\, and revitalization efforts that reflect local character. \nIn Lac La Biche County\, Nick guided the planning aspects of the Main Street Revitalization project from concept through construction. He led a six-month engagement process with council\, business owners\, schools\, and residents\, helping build support for a streetscape plan that balanced pedestrian safety with commercial needs. His contributions shaped design elements\, cost estimates\, and implementation strategies that responded directly to community input and long-term goals. \n  \nRegular pricing is active until Friday\, October 31st. Late registration charges will apply beginning at 12 noon\, October 31.\nPlease note that photos/videos may be taken during the event and may be used internally or for promotional purposes by the ITE Northern Alberta Section. If you do not wish to be photographed\, please contact northernalberta@itecanada.org. \nParking:\nThe University Club lot will only be accessible for assigned permit holders and club members. If you are not personally a member of The University Club or do not have a UofA parking permit\, you are directed to use the Windsor Car Park. For additional details\, visit the University Club and UofA Parking Services websites. \nParking availability in the Windsor Car Park is not guaranteed. If able\, please consider using transit\, rideshare\, or active modes to travel to the University Club. \nParking Rates are subject to change by the University Parking Services: \n\nHourly: $5.00\nDaily Maximum: $17.00\n\nLuncheon sponsored by V3 Companies of Canada
URL:https://www.itecanada.org/event/ite-northern-alberta-november-2025-luncheon/
LOCATION:University Club at the University of Alberta\, 11435 Saskatchewan Dr NW\, Edmonton\, Alberta\, T6G 2G9\, Canada
CATEGORIES:Luncheon,Presentation
ATTACH;FMTTYPE=image/jpeg:https://www.itecanada.org/wp-content/uploads/2025/10/LLB-Main-Street-project-photo16-9-scaled.jpg
ORGANIZER;CN="ITE Northern Alberta Section":MAILTO:northernalberta@itecanada.org.
GEO:53.5299954;-113.5283923
X-APPLE-STRUCTURED-LOCATION;VALUE=URI;X-ADDRESS=DESCRIPTION:Lac La Biche Main Street Revitalization:  Navigating Planning Design and Construction Challenges\nJoin the ITE Northern Alberta section on November 5 2025 for a presentation on this topic. \nV3 Companies of Canada partnered with Lac La Biche County to revitalize Main Street within the Hamlet of Lac La Biche with an aim to enhance livability support local businesses and create a more attractive public realm. Located within a provincial highway right-of-way the project required thoughtful planning extensive community engagement infrastructure upgrades and unique urban design elements to enhance the character of the community. V3 led engagement efforts with business owners residents and County administration and elected officials to ensure the revitalization reflected local needs and architectural context.  Streetscape improvements included boulevard trees landscape beds soil cells entrance columns outdoor speakers decorative lighting and traffic calming features to create a welcoming and vibrant corridor.  The project included the replacement and rehabilitation of underground utilities to address aging deep infrastructure; and curb sidewalk and asphalt installation to improve pedestrian safety and vehicular access. \nThis presentation will explore the challenges encountered and the successful navigation of those challenges during the planning design and construction stages of this vital community project. \nDATE:  Wednesday November 5 2025 \nTIME:  11:45am – 1:00pm \n  The University Club University of Alberta 11435 Saskatchewan Dr. NW Edmonton AB T6G 2G9 \n  \nAbout the Presenters:\nSean Snowden P.Eng.PMP Transportation and Municipal Engineering Group Leader \n \nSean is a leader in municipal and transportation engineering. With 26 years of engineering consulting experience and a Platinum Jubilee Medal for public service Sean provides servant leadership to V3’s Transportation and Municipal Engineering Group with integrity and technical excellence. He provides corporate oversight quality assurance technical advice and strategic guidance across municipal and government infrastructure projects. His leadership has shaped award-winning projects and includes roadways municipal improvements and capital programs. \nSean has undertaken numerous projects in Lac La Biche County including Old Trail Reconstruction the Rural Road Capital Program and the development of the General Municipal Servicing Standards.  Sean provided corporate support leadership and advice to the Main Street Revitalization construction team and construction on the project was successfully completed this fall. \nNick Pryce RPP MCIP Vice-President – Planning Group Leader \n \nNick Pryce is an influencer in urban & regional planning at V3 serving as Vice President and Planning Group Leader. He leads policy development project approvals and implementation strategies with a focus on economic development urban design and sustainability. His work supports communities through multi-modal transportation planning evidence-based decision-making and revitalization efforts that reflect local character. \nIn Lac La Biche County Nick guided the planning aspects of the Main Street Revitalization project from concept through construction. He led a six-month engagement process with council business owners schools and residents helping build support for a streetscape plan that balanced pedestrian safety with commercial needs. His contributions shaped design elements cost estimates and implementation strategies that responded directly to community input and long-term goals. \n  \nRegular pricing is active until Friday October 31st. Late registration charges will apply beginning at 12 noon October 31.\nPlease note that photos/videos may be taken during the event and may be used internally or for promotional purposes by the ITE Northern Alberta Section. If you do not wish to be photographed please contact northernalberta@itecanada.org. \nParking:\nThe University Club lot will only be accessible for assigned permit holders and club members. If you are not personally a member of The University Club or do not have a UofA parking permit you are directed to use the Windsor Car Park. For additional details visit the University Club and UofA Parking Services websites. \nParking availability in the Windsor Car Park is not guaranteed. If able please consider using transit rideshare or active modes to travel to the University Club. \nParking Rates are subject to change by the University Parking Services: \n\nHourly: $5.00\nDaily Maximum: $17.00\n\nLuncheon sponsored by V3 Companies of Canada;X-APPLE-RADIUS=500;X-TITLE=11435 Saskatchewan Dr NW:geo:-113.5283923,53.5299954
END:VEVENT
BEGIN:VEVENT
DTSTART;TZID=America/Toronto:20251106T113000
DTEND;TZID=America/Toronto:20251106T133000
DTSTAMP:20260423T034050
CREATED:20251006T192051Z
LAST-MODIFIED:20251103T181318Z
UID:10000819-1762428600-1762435800@www.itecanada.org
SUMMARY:ITE National Capital: 2025 Fall Luncheon - City of Ottawa's MMLOS Guidelines Update and First Dutch-Style Roundabout
DESCRIPTION:  \n==Please note ticket sales for this event will close on Sunday\, October 26\, 2025\, at 11:30PM. Only one Member ticket per current ITE Member is permitted.== \n  \nNOTE: There is limited on-site parking. Consider transit\, walking\, or biking.  \n  \nPRESENTERS: \nCity of Ottawa 2025 Multimodal Level of Service (MMLOS) Guidelines Update – Presenters: Juan Lavin\, P.Eng.\, Alex Buck\, C.E.T.\, Amir Zahabi\, P.Eng. \n Juan Lavin has been a transportation engineer within the Traffic and Transportation Planning Group at Parsons’ Ottawa Office for around 8 years. Juan is passionate about active transportation and strives to guide design towards vision zero\, following the guidance from the Protected Intersection Design Guide (PIDG)\, Multi-Modal Level of Service (MMLOS) and other leading industry standards. Juan helped develop the New 2025 MMLOS Guidelines for Ottawa using his professional work experience\, engineering best practices and knowledge of the previous guidelines\, plus lived-experience as someone who bikes to work\, occasionally takes transit and enjoys daily walks with his family and dog. Juan has a diverse portfolio\, working on active transportation projects\, transit feasibility studies\, road construction management/detours\, transportation master plans\, transportation impact studies and more. \n  \n \nAlex Buck is a transportation technologist with over 10 years of experience in the transportation planning and engineering field. He specializes in a detailed traffic modelling environment and is typically responsible for handling complex problems and providing unique solutions. Alex has in-depth knowledge of industry-standard best practices in transportation planning and a substantial background of successfully completed projects. He supported the development of the New 2025 MMLOS Guidelines for the City of Ottawa through his involvement in updating the supporting Excel analysis tool. \n  \n \nAmir Zahabi is a Senior Project Manager in Transportation Policy and Networks at the City of Ottawa. With a Ph.D. in Transportation Engineering from McGill University\, he has over 15 years of experience in transportation planning\, policy\, and project management. He is a Professional Engineer (P. Eng.) and has expertise in travel demand modeling\, transportation emissions\, and GIS. He has led key projects such as the Multi-Modal Level of Service Guidelines Update\, numerous functional design studies\, the TRANS OD Survey and Commuter Attitude Survey\, and the Future Neighborhoods Expansion Lands Transportation Studies. Amir has published over 10 peer-reviewed journal articles and is an active member of the Transportation Association of Canada. He has also contributed to various academic institutions\, offering over six years of teaching experience in transportation planning. \n  \n  \nCampus Avenue Dutch-Style Roundabout – Presenter: Will Rose\, P.Eng \n \nWill Rose is a Civil Engineer with 13 years’ experience in the construction and civil engineering industry. He is an established senior design engineer\, having started in Contract Administration as a site inspector where he quickly learned construction practices\, techniques\, and the importance of ‘constructability’ for any design. As he progressed in his career from site inspector to contract administrator\, he further developed his skills and knowledge with respect to contract tenders\, specifications\, quantity calculations\, and communicating with multiple stakeholders. Using knowledge he gained from the Contract Administration side of the industry\, Will has developed into a well-rounded Transportation Engineer who can complete functional\, preliminary and detailed designs and put together contract drawings\, quantities\, and specifications to ensure the Client’s project is designed with the highest level of quality. Will has designed and constructed complete street projects and MTO highway projects ranging from protected intersections\, roadway widening\, and roundabouts. \nThis presentation will discuss the design and implementation of Dutch-inspired features to accommodate cycling facilities and prioritize pedestrians at roundabouts. The showcase will be the Campus Avenue Roundabout at Campus Avenue and University Drive located on the Campus of Carleton University. This roundabout is the first in Ottawa to implement dedicated cycling facilities\, inspired by Dutch practices. \n 
URL:https://www.itecanada.org/event/ite-national-capital-2025-fall-luncheon-city-of-ottawa-mmlos-and-first-dutch-style-roundabtou/
LOCATION:Sala San Marco Event & Conference Centre\, 215 Preston Street\, Ottawa\, Ontario\, K1R 7R1\, Canada
CATEGORIES:Luncheon,Presentation
ORGANIZER;CN="ITE National Capital Section":MAILTO:nationalcapital@itecanada.org
GEO:45.4058766;-75.7122165
X-APPLE-STRUCTURED-LOCATION;VALUE=URI;X-ADDRESS=Sala San Marco Event & Conference Centre 215 Preston Street Ottawa Ontario K1R 7R1 Canada;X-APPLE-RADIUS=500;X-TITLE=215 Preston Street:geo:-75.7122165,45.4058766
END:VEVENT
BEGIN:VEVENT
DTSTART;TZID=America/Halifax:20251113T081500
DTEND;TZID=America/Halifax:20251113T160000
DTSTAMP:20260423T034050
CREATED:20251006T204345Z
LAST-MODIFIED:20251010T144030Z
UID:10000820-1763021700-1763049600@www.itecanada.org
SUMMARY:ITE Atlantic Section: Fall Technical Session and AGM - Nov 2025
DESCRIPTION:Join our ITE Atlantic Canada section for our Social Event and Fall Technical Session\, followed by our AGM and Executive Election on November 12 and 13. \nDATES:   \n\nSocial Event: Wednesday\, November 12\, 7-10pm ADT\, FREE with your paid registration for the Fall Technical Session\nat Dolan’s Pub (349 King St\, Fredericton\, NB E3B 1B2)\n\n\nFall Technical Session: Thursday\, November 13\, 8:15am – 4:00pm ADT\,\nat Dineen Auditorium\, Head Hall\, UNB Campus (15 Dineen Drive\, Fredericton\, NB E3B 5H5)\n\n\n\n\nDETAILS: \nSocial Event: Our social event this year will again be a low key evening at Dolan’s Pub (349 King St\, Fredericton\, NB E3B 1B2)\, in downtown Fredericton. There will be a range of bar snacks and drink tickets provided. More details to come! Your social event ticket is FREE with your paid registration for the Fall Technical Session. \nFall Technical Session: Our technical session will be held in the Dineen Auditorium in the Head Hall Building on UNB Campus (15 Dineen Drive\, Fredericton\, NB E3B 5H5). As always\, we’ll have a day full of technical presentations highlighting a small portion of the great work going on around the region. A light breakfast will be provided\, along with lunch and snacks during breaks throughout the day. Our Annual General Meeting will follow the technical sessions. \nDetails on the technical sessions and presenters to follow. \n\nHOTEL BLOCK: There is a reserved a block of hotel rooms at the Crowne Plaza Hotel. The group rate will be available until October 22nd under the “ITE Atlantic Canada Section”. To secure the group rate please call or email one of the following booking lines: \n\nPhone Booking: 1-506-455-3371\nEmail Booking: reservations@cpfredericton.com\n\n  \n\n\n\n\n\n\n\n\n\n\n\n\n\n==Registration ends on Friday\, November 7\, at 11:30PM== \n\n\n\n\n\n\n 
URL:https://www.itecanada.org/event/ite-atlantic-section-fall-technical-session-and-agm-nov2025/
LOCATION:Dineen Auditorium\, UNB Campus\, 15 Dineen Drive\, Fredericton\, NB\, E3B 5H5\, Canada
CATEGORIES:AGM,Luncheon,Presentation,Social
ORGANIZER;CN="ITE Atlantic Canada Section":MAILTO:atlantic@itecanada.org
END:VEVENT
BEGIN:VEVENT
DTSTART;TZID=America/Vancouver:20251125T120000
DTEND;TZID=America/Vancouver:20251125T133000
DTSTAMP:20260423T034050
CREATED:20251017T171251Z
LAST-MODIFIED:20251017T171420Z
UID:10000825-1764072000-1764077400@www.itecanada.org
SUMMARY:ITE Vancouver Island + BC Transit Lunch'n'Learn: Shaping the Future of Transit Together - Nov 2025
DESCRIPTION:Join ITE Vancouver Island and BC Transit in exploring the future of transit in Greater Victoria in this November Lunch’n’Learn titled: Next Stop: 2050 – Shaping the Future of Transit Together. In October\, BC Transit launched a public engagement to refresh the Victoria Regional Transit Plan\, and now we’re sharing what we heard. \nDATE: November 25\, 2025 \nTIME: 12:00pm–1:30 pm PST \nLOCATION: Midtown Court\, 740 Hillside Avenue (Main Floor Boardroom)\, Victoria\, BC \nLunch will be provided – please list any dietary restrictions when you purchase your ticket. \n= Registrations will close on Monday\, November 24\, at 11:00am =  \nDescription:\nThis session will highlight key themes from the feedback\, outline next steps in the planning process\, and discuss how public input is guiding future investments\, including RapidBus expansion and infrastructure upgrades. Come learn how the plan is evolving to meet the region’s needs through 2050 and how we plan to get there. \nPresenters:\n\nElise Wren\, Manager of Government Relations. Elise supports the Victoria Regional Transit Commission and liaises with the local government partners within the Victoria Region.\nLevi Megenbir\, Manager of Service Planning. Levi leads the Victoria Service Planning Team in the Victoria Region\, including long-range strategic planning and operational service planning.\n\n 
URL:https://www.itecanada.org/event/ite-vancouver-island-bc-transit-lunchnlearn-shaping-the-future-of-transit-together-nov-2025/
LOCATION:Midtown Court – Ground Floor Boardroom\, 740 Hillside Avenue\, Victoria\, BC\, Canada
CATEGORIES:Luncheon,Presentation
ORGANIZER;CN="ITE Vancouver Island Section":MAILTO:vancouverisland@itecanada.org
GEO:48.438978;-123.365767
X-APPLE-STRUCTURED-LOCATION;VALUE=URI;X-ADDRESS=DESCRIPTION:Join ITE Vancouver Island and BC Transit in exploring the future of transit in Greater Victoria in this November Lunch’n’Learn titled: Next Stop: 2050 – Shaping the Future of Transit Together. In October BC Transit launched a public engagement to refresh the Victoria Regional Transit Plan and now we’re sharing what we heard. \nDATE: November 25 2025 \nTIME: 12:00pm–1:30 pm PST \n Midtown Court 740 Hillside Avenue (Main Floor Boardroom) Victoria BC \nLunch will be provided – please list any dietary restrictions when you purchase your ticket. \n= Registrations will close on Monday November 24 at 11:00am =  \nDescription:\nThis session will highlight key themes from the feedback outline next steps in the planning process and discuss how public input is guiding future investments including RapidBus expansion and infrastructure upgrades. Come learn how the plan is evolving to meet the region’s needs through 2050 and how we plan to get there. \nPresenters:\n\nElise Wren Manager of Government Relations. Elise supports the Victoria Regional Transit Commission and liaises with the local government partners within the Victoria Region.\nLevi Megenbir Manager of Service Planning. Levi leads the Victoria Service Planning Team in the Victoria Region including long-range strategic planning and operational service planning.\n\n ;X-APPLE-RADIUS=500;X-TITLE=740 Hillside Avenue:geo:-123.365767,48.438978
END:VEVENT
BEGIN:VEVENT
DTSTART;TZID=America/Winnipeg:20251126T120000
DTEND;TZID=America/Winnipeg:20251126T133000
DTSTAMP:20260423T034050
CREATED:20251112T155904Z
LAST-MODIFIED:20251119T203354Z
UID:10000836-1764158400-1764163800@www.itecanada.org
SUMMARY:ITE Manitoba Section: Luncheon - November 2025
DESCRIPTION:Join the ITE Manitoba Section for their Luncheon on Wednesday\, November 26\, 2025 at the Bill and Helen Norrie Library! \nKarin Kliewer\, a senior planner at the City of Winnipeg\, will be presenting and the event will be catered by Qdoba (with plenty of queso for this Mexican lunch). \nEvent Details\nDate:    Wednesday\, November 26\, 2025\nTime:   12:00pm to 1:30 pm CST\n**REVISED** Location: Bill and Helen Norrie Library\, 15 Poseidon Bay\, Winnipeg MB (apologies for any confusion) \nCost:  \n\n$25 for non-ITE members\n$20 for ITE members\n $15 for students\n\n**Registration will close on Monday\, November 24\, at 3pm.** \nPlease note\, to register for the reduced ITE member rate\, your ITE membership should be valid for 2025. \nFood: Catering will be provided by Qdoba\, a Mexican eatery\, for a delicious Taco bar. Please let us know in your registration if you have any dietary restrictions. \n  \nPresentation Details\nTitle: CentrePlan 2050 \nCentrePlan 2050 is the City’s long-term plan for Downtown infrastructure and development that outlines how our Downtown should grow and change over the next 30 years. This presentation will include an overview of CentrePlan’s strategic directions\, goals\, and actions. We will also discuss how this plan is shaping the overall vision for Graham Avenue’s new pedestrian corridor\, and bringing together different departments to help fulfil the City’s corporate mission “to be a vibrant and healthy City which places its highest priority on quality of life for all its citizens”\nSpeaker: Karin Kliewer\, MCIP\, RPP\, Senior Planner\, City of Winnipeg \nKarin Kliewer is a Senior Planner with the City of Winnipeg’s Downtown and Neighbourhood Main Streets Branch\, and has been at the City of Winnipeg for over a decade. Currently\, she leads implementation of CentrePlan 2050\, a secondary plan to guide municipal investment and development in Downtown Winnipeg. She is also Project Manager for the Graham Avenue redevelopment project\, which turned a bus corridor into a pedestrian street in the summer of 2025.\n 
URL:https://www.itecanada.org/event/ite-manitoba-luncheon-nov-2025/
LOCATION:Bill and Helen Norrie Library\, 15 Poseidon Bay\, Winnipeg\, Manitoba\, R3M 3E4\, Canada
CATEGORIES:Luncheon,Presentation
ORGANIZER;CN="ITE Manitoba Section":MAILTO:secretary@manitoba.itecanada.org
END:VEVENT
END:VCALENDAR