BEGIN:VCALENDAR
VERSION:2.0
PRODID:-//ITE Canada - ECPv6.15.20//NONSGML v1.0//EN
CALSCALE:GREGORIAN
METHOD:PUBLISH
X-WR-CALNAME:ITE Canada
X-ORIGINAL-URL:https://www.itecanada.org
X-WR-CALDESC:Events for ITE Canada
REFRESH-INTERVAL;VALUE=DURATION:PT1H
X-Robots-Tag:noindex
X-PUBLISHED-TTL:PT1H
BEGIN:VTIMEZONE
TZID:America/Vancouver
BEGIN:DAYLIGHT
TZOFFSETFROM:-0800
TZOFFSETTO:-0700
TZNAME:PDT
DTSTART:20250309T100000
END:DAYLIGHT
BEGIN:STANDARD
TZOFFSETFROM:-0700
TZOFFSETTO:-0800
TZNAME:PST
DTSTART:20251102T090000
END:STANDARD
BEGIN:DAYLIGHT
TZOFFSETFROM:-0800
TZOFFSETTO:-0700
TZNAME:PDT
DTSTART:20260308T100000
END:DAYLIGHT
BEGIN:STANDARD
TZOFFSETFROM:-0700
TZOFFSETTO:-0800
TZNAME:PST
DTSTART:20261101T090000
END:STANDARD
BEGIN:DAYLIGHT
TZOFFSETFROM:-0800
TZOFFSETTO:-0700
TZNAME:PDT
DTSTART:20270314T100000
END:DAYLIGHT
BEGIN:STANDARD
TZOFFSETFROM:-0700
TZOFFSETTO:-0800
TZNAME:PST
DTSTART:20271107T090000
END:STANDARD
END:VTIMEZONE
BEGIN:VTIMEZONE
TZID:America/Winnipeg
BEGIN:DAYLIGHT
TZOFFSETFROM:-0600
TZOFFSETTO:-0500
TZNAME:CDT
DTSTART:20250309T080000
END:DAYLIGHT
BEGIN:STANDARD
TZOFFSETFROM:-0500
TZOFFSETTO:-0600
TZNAME:CST
DTSTART:20251102T070000
END:STANDARD
BEGIN:DAYLIGHT
TZOFFSETFROM:-0600
TZOFFSETTO:-0500
TZNAME:CDT
DTSTART:20260308T080000
END:DAYLIGHT
BEGIN:STANDARD
TZOFFSETFROM:-0500
TZOFFSETTO:-0600
TZNAME:CST
DTSTART:20261101T070000
END:STANDARD
BEGIN:DAYLIGHT
TZOFFSETFROM:-0600
TZOFFSETTO:-0500
TZNAME:CDT
DTSTART:20270314T080000
END:DAYLIGHT
BEGIN:STANDARD
TZOFFSETFROM:-0500
TZOFFSETTO:-0600
TZNAME:CST
DTSTART:20271107T070000
END:STANDARD
END:VTIMEZONE
BEGIN:VTIMEZONE
TZID:America/Edmonton
BEGIN:DAYLIGHT
TZOFFSETFROM:-0700
TZOFFSETTO:-0600
TZNAME:MDT
DTSTART:20250309T090000
END:DAYLIGHT
BEGIN:STANDARD
TZOFFSETFROM:-0600
TZOFFSETTO:-0700
TZNAME:MST
DTSTART:20251102T080000
END:STANDARD
BEGIN:DAYLIGHT
TZOFFSETFROM:-0700
TZOFFSETTO:-0600
TZNAME:MDT
DTSTART:20260308T090000
END:DAYLIGHT
BEGIN:STANDARD
TZOFFSETFROM:-0600
TZOFFSETTO:-0700
TZNAME:MST
DTSTART:20261101T080000
END:STANDARD
BEGIN:DAYLIGHT
TZOFFSETFROM:-0700
TZOFFSETTO:-0600
TZNAME:MDT
DTSTART:20270314T090000
END:DAYLIGHT
BEGIN:STANDARD
TZOFFSETFROM:-0600
TZOFFSETTO:-0700
TZNAME:MST
DTSTART:20271107T080000
END:STANDARD
END:VTIMEZONE
BEGIN:VEVENT
DTSTART;TZID=America/Vancouver:20260324T120000
DTEND;TZID=America/Vancouver:20260324T133000
DTSTAMP:20260422T214045
CREATED:20260212T173626Z
LAST-MODIFIED:20260323T174325Z
UID:10000855-1774353600-1774359000@www.itecanada.org
SUMMARY:ITE Vancouver Island Lunch'n'Learn: BC Ferries Spirit Class Vessels - March 2026
DESCRIPTION:UPDATE MARCH 22\, 2026: Event Cancelled\n\nThe ITE Vancouver Island Lunch’n’Learn scheduled for March 24\, 2026 has been cancelled due to spring break and low registration. All registered attendees will receive a full refund to the original method of payment. If you have any questions\, please contact vancouverisland@itecanada.org. \n— \n\nJoin ITE Vancouver Island section on March 24\, 2026 for an informative Lunch & Learn on BC Ferries Spirit Class Vessels: Completion of the Mid Life Upgrade Program\, presented by Eric Bekkering\, BC Ferry Services Inc. \nDate:  Tuesday\, March 24\, 2026 \nTime: 12:00pm – 1:30pm PST \nLocation: Midtown Court\, 740 Hillside Avenue (Main Floor Boardroom)\, Victoria\, BC \nLunch will be provided; please list any dietary restrictions when purchasing your ticket. \n== Ticket sales end on March 22 at 11:30pm== \nDescription: \nThis session will provide an overview of how corporate maintenance strategies\, technological advancements\, and both operating and project cost pressures shape decision‑making for major vessel lifecycle events. Attendees will gain insight into marine‑sector project planning and execution—from initial business case development through to final lessons learned. We will explore how the team delivered an extensive upgrade program for BC Ferries’ two largest vessels\, including the installation of new safety and navigation systems and a propulsion system conversion to dual‑fuel capability (natural gas and diesel). This complex program was executed in Gdańsk\, Poland\, and represents one of the most challenging and ambitious projects BC Ferry Services Inc. has ever undertaken. \nSpeaker Bio: \n \nEric Bekkering is a marine engineer\, project manager\, and asset management professional with more than 25 years of experience in vessel operations\, project execution\, and lifecycle asset management. He currently serves as Manager\, Maintenance Standards within the Engineering Standards and Asset Service team at BC Ferries\, where he leads initiatives that enhance maintenance governance and improve asset performance across the company. \n 
URL:https://www.itecanada.org/event/ite-vancouver-island-lunchnlearn-bc-ferries-spirit-class-vessels-march2026/
LOCATION:Midtown Court – Ground Floor Boardroom\, 740 Hillside Avenue\, Victoria\, BC\, Canada
CATEGORIES:Luncheon,Presentation
ORGANIZER;CN="ITE Vancouver Island Section":MAILTO:vancouverisland@itecanada.org
GEO:48.438978;-123.365767
X-APPLE-STRUCTURED-LOCATION;VALUE=URI;X-ADDRESS=Midtown Court – Ground Floor Boardroom 740 Hillside Avenue Victoria BC Canada;X-APPLE-RADIUS=500;X-TITLE=740 Hillside Avenue:geo:-123.365767,48.438978
END:VEVENT
BEGIN:VEVENT
DTSTART;TZID=America/Winnipeg:20260324T120000
DTEND;TZID=America/Winnipeg:20260324T133000
DTSTAMP:20260422T214045
CREATED:20260310T132627Z
LAST-MODIFIED:20260310T132627Z
UID:10000863-1774353600-1774359000@www.itecanada.org
SUMMARY:ITE Manitoba Section Luncheon: Winnipeg's Primary Transit Network - March 2026
DESCRIPTION:Join the ITE Manitoba Section for their Luncheon on Tuesday\, March 24\, 2026 at Bill and Helen Norrie Library! \nAdam Budowski from Winnipeg Transit will be presenting. Lunch will be provided. \nEvent Details\nDate:    Tuesday\, March 24\, 2026\nTime:   12:00pm to 1:30 pm CST\nLocation: Bill and Helen Norrie Library\, 15 Poseidon Bay\, Winnipeg\, MB R3M 3E4 \nCost:  \n\n$22 for ITE members\n$27 for non-ITE members\n$15 for students\n\n**Registration will close on Friday\, March 20\, at 3pm.** \nPlease note\, to register for the reduced ITE member rate\, your ITE membership should be valid for 2026. \nFood: Sandwiches and salad from Primos Deli will be provided. Please let us know in your registration if you have any dietary restrictions. \nPresentation Details\nTitle: Winnipeg’s Primary Transit Network \nOn June 29\, 2025\, Winnipeg Transit launched a fully redesigned bus system called the Primary Transit Network (PTN). With its introduction\, every existing bus route in the city was replaced overnight. This citywide transformation—affecting more than 750\,000 residents—was the result of over five years of planning\, public engagement\, and coordination across departments. This presentation highlights key lessons learned from delivering such a complex and ambitious project. \nSince launch\, the PTN has continued to evolve\, with a number of smaller adjustments already made and additional improvements planned. By reflecting on both successes and areas for improvement\, this presentation offers practical insights for planners and engineers considering large-scale transit redesigns. Attendees will gain a clearer understanding of the challenges and opportunities involved in transforming an entire network in a single day\, and why careful planning\, flexibility\, and collaboration are essential to success. \nSpeaker: Adam Budowski\, M.Sc.\, P.Eng. \nAdam Budowski is the Senior Transit Planner at Winnipeg Transit\, where he played a pivotal role in implementing the city’s redesigned bus network. One of Adam’s top career goals is to reduce the impact of ‘silo-ing’ – a concept that is too familiar across many organizations. He strives to create an environment where work isn’t work\, it’s just conversations with other passionate Winnipeggers who want to improve government efficiencies.
URL:https://www.itecanada.org/event/ite-manitoba-section-luncheon-winnipegs-primary-transit-network-march-2026/
LOCATION:Bill and Helen Norrie Library\, 15 Poseidon Bay\, Winnipeg\, Manitoba\, R3M 3E4\, Canada
CATEGORIES:Luncheon
ORGANIZER;CN="ITE Manitoba Section":MAILTO:secretary@manitoba.itecanada.org
END:VEVENT
BEGIN:VEVENT
DTSTART;TZID=America/Edmonton:20260326T113000
DTEND;TZID=America/Edmonton:20260326T130000
DTSTAMP:20260422T214045
CREATED:20260312T193536Z
LAST-MODIFIED:20260320T174908Z
UID:10000862-1774524600-1774530000@www.itecanada.org
SUMMARY:ITE SA Student Presentation Competition Event
DESCRIPTION:Join us at the University of Calgary Downtown Campus for an engaging student presentation event\, hosted by ITE Southern Alberta in partnership with the University of Calgary Student Chapter of ITE. \nDate: Thursday\, March 26\, 2026 \nTime: 11:30 am to 1:00 pm \nLocation: University of Calgary Downtown Campus\, 906-8th Avenue – Room DTC 426 \n== Registration closes Tuesday\, March 24 == \nWhat to Expect \n\nA light lunch of sandwiches and light refreshments will be provided for all attendees.\nPoster presentations will be conducted throughout the lunch hour with networking throughout.\nThe winner will be announced at 12:50pm.\n\nWe invite industry professionals to participate in voting for the best student poster from the ITE Southern Alberta Section. \nThe winner of this competition will be nominated to ITE Canada\, who will select the recipient of the Student Presentation Competition Award by a random draw. The drawn winner of the ITE Canada award will receive complimentary registration for the annual ITE Canada conference (in the year of the award)\, travel reimbursement (up to $1\,000 for those outside the conference region or up to $100 for those within)\, and recognition at the Annual Awards Luncheon. \nRegardless of the ITE Canada draw\, the winner of this ITE Southern Alberta will receive sponsorship to attend the ITE Canada conference (in the year of the award) from the proceeds of the local event. \nStudent registration: \n\nIf you would like to participate in the competition\, contact Dr. Jacob Lamb to register\nIf you would like to attend the event but not compete\, you can claim a student ticket below
URL:https://www.itecanada.org/event/ite-sa-student-presentation-competition-2026/
LOCATION:Trolley 5 Brewpub\, 728 17 Ave SW\, Calgary\, Alberta\, T2S 0B7\, Canada
CATEGORIES:Competition,Luncheon
ORGANIZER;CN="ITE Southern Alberta Section":MAILTO:southernalberta@itecanada.org
GEO:51.0463832;-114.0820407
X-APPLE-STRUCTURED-LOCATION;VALUE=URI;X-ADDRESS=Trolley 5 Brewpub 728 17 Ave SW Calgary Alberta T2S 0B7 Canada;X-APPLE-RADIUS=500;X-TITLE=728 17 Ave SW:geo:-114.0820407,51.0463832
END:VEVENT
END:VCALENDAR