BEGIN:VCALENDAR
VERSION:2.0
PRODID:-//ITE Canada - ECPv6.15.20//NONSGML v1.0//EN
CALSCALE:GREGORIAN
METHOD:PUBLISH
X-ORIGINAL-URL:https://www.itecanada.org
X-WR-CALDESC:Events for ITE Canada
REFRESH-INTERVAL;VALUE=DURATION:PT1H
X-Robots-Tag:noindex
X-PUBLISHED-TTL:PT1H
BEGIN:VTIMEZONE
TZID:America/Toronto
BEGIN:DAYLIGHT
TZOFFSETFROM:-0500
TZOFFSETTO:-0400
TZNAME:EDT
DTSTART:20230312T070000
END:DAYLIGHT
BEGIN:STANDARD
TZOFFSETFROM:-0400
TZOFFSETTO:-0500
TZNAME:EST
DTSTART:20231105T060000
END:STANDARD
BEGIN:DAYLIGHT
TZOFFSETFROM:-0500
TZOFFSETTO:-0400
TZNAME:EDT
DTSTART:20240310T070000
END:DAYLIGHT
BEGIN:STANDARD
TZOFFSETFROM:-0400
TZOFFSETTO:-0500
TZNAME:EST
DTSTART:20241103T060000
END:STANDARD
BEGIN:DAYLIGHT
TZOFFSETFROM:-0500
TZOFFSETTO:-0400
TZNAME:EDT
DTSTART:20250309T070000
END:DAYLIGHT
BEGIN:STANDARD
TZOFFSETFROM:-0400
TZOFFSETTO:-0500
TZNAME:EST
DTSTART:20251102T060000
END:STANDARD
END:VTIMEZONE
BEGIN:VEVENT
DTSTART;TZID=America/Toronto:20241114T120000
DTEND;TZID=America/Toronto:20241114T130000
DTSTAMP:20260421T052625
CREATED:20241028T151511Z
LAST-MODIFIED:20241127T141347Z
UID:10000720-1731585600-1731589200@www.itecanada.org
SUMMARY:ITE Canada: Industry Perspectives & Emerging Ideas: Insights from ITE Canada's Technical Appointees (Virtual)
DESCRIPTION:ITE Canada cordially invites you to attend a 1-hour virtual session presented by our Technical Appointees to highlight hot topics in the transportation field\, share emerging ideas\, and discuss gaps in knowledge\, skills and resources and how these gaps are being addressed. \nPresentations will span seven themes: \n\nSafety\nMulti-modal Mobility\nDesign\nPlanning\nTechnology\nOperations and Workforce\n\nA Q&A session will follow the presentations. \nOne of ITE Canada’s mandates is to keep our members informed about perspectives in the transportation industry\, emerging ideas\, and joint project partnerships that ITE Canada undertakes with organizations such as TAC and ITE International. Don’t miss this opportunity to hear from some of our 26 multi-disciplinary volunteer appointees serving on technical committees and councils about pressing challenges and opportunities in transportation. \nWhen: Thursday\, November 14\, 2024 | 12 to 1 pm ET / 9 to 10 am PT\nWhat: Virtual webinar with Q&A\nCost: Free for ITE members\, $25 for non-members\n\nJoin Virtual Event:\nhttps://teams.microsoft.com/l/meetup-join/19%3ameeting_MmNkOGYyMTctMTMwNy00M2FlLThiZjAtMDA5ZTAwODVhMjE4%40thread.v2/0?context=%7b%22Tid%22%3a%22875688ea-8b21-4b98-b25b-4b81851ad72d%22%2c%22Oid%22%3a%224a3ba1e2-3eaf-46fd-a2aa-5dc1b59160ca%22%7d\n
URL:https://www.itecanada.org/event/ite-canada-industry-perspectives-and-emerging-ideas-insights-from-ite-canadas-technical-appointees/
LOCATION:Ottawa Area (Virtual)\, Ottawa\, ON\, Canada
CATEGORIES:Webinar
ATTACH;FMTTYPE=image/png:https://www.itecanada.org/wp-content/uploads/2024/10/TLC-Appointees-Webinar-Nov-14-Event-banner_low.png
ORGANIZER;CN="ITE Canada":MAILTO:admin@itecanada.org
GEO:45.448628;-75.654714
X-ALT-DESC;FMTTYPE=text/html: <b><a href="https://teams.microsoft.com/l/meetup-join/19%3ameeting_MmNkOGYyMTctMTMwNy00M2FlLThiZjAtMDA5ZTAwODVhMjE4%40thread.v2/0?context=%7b%22Tid%22%3a%22875688ea-8b21-4b98-b25b-4b81851ad72d%22%2c%22Oid%22%3a%224a3ba1e2-3eaf-46fd-a2aa-5dc1b59160ca%22%7d">Join Virtual Event</a></b><br/><br/><div>DESCRIPTION:ITE Canada cordially invites you to attend a 1-hour virtual session presented by our Technical Appointees to highlight hot topics in the transportation field\, share emerging ideas\, and discuss gaps in knowledge\, skills and resources and how these gaps are being addressed. \nPresentations will span seven themes: \n\nSafety\nMulti-modal Mobility\nDesign\nPlanning\nTechnology\nOperations and Workforce\n\nA Q&A session will follow the presentations. \nOne of ITE Canada’s mandates is to keep our members informed about perspectives in the transportation industry\, emerging ideas\, and joint project partnerships that ITE Canada undertakes with organizations such as TAC and ITE International. Don’t miss this opportunity to hear from some of our 26 multi-disciplinary volunteer appointees serving on technical committees and councils about pressing challenges and opportunities in transportation. \nWhen: Thursday\, November 14\, 2024 | 12 to 1 pm ET / 9 to 10 am PT\nWhat: Virtual webinar with Q&A\nCost: Free for ITE members\, $25 for non-members
END:VEVENT
BEGIN:VEVENT
DTSTART;TZID=America/Toronto:20241114T120000
DTEND;TZID=America/Toronto:20241114T130000
DTSTAMP:20260421T052625
CREATED:20241105T193939Z
LAST-MODIFIED:20241105T193939Z
UID:10000726-1731585600-1731589200@www.itecanada.org
SUMMARY:ITE National Capital: Road Safety Audit Webinar (Virtual)
DESCRIPTION:The City of Ottawa has recently implemented a practice guideline requesting that projects involving a roadway redesign or renewal undertake a Road Safety Audit (RSA)\, as part of the design process. Geoff and Suzanne have a combined 55+ years of experience in Road Safety Engineering. They will talk about why RSAs are an important part of a roadway design project; and what to expect if you are asked to do one.\n\nJoin Virtual Event:\nhttps://teams.microsoft.com/l/meetup-join/19%3ameeting_NjgzODliNDMtMTQ2ZC00N2EwLWI0ZTktZDg5NzU2MmVmMDhm%40thread.v2/0?context=%7b%22Tid%22%3a%22875688ea-8b21-4b98-b25b-4b81851ad72d%22%2c%22Oid%22%3a%224a3ba1e2-3eaf-46fd-a2aa-5dc1b59160ca%22%7d\n
URL:https://www.itecanada.org/event/ite-national-capital-road-safety-audit-webinar-virtual/
LOCATION:Ottawa Area (Virtual)\, Ottawa\, ON\, Canada
CATEGORIES:Presentation,Webinar
ATTACH;FMTTYPE=image/png:https://www.itecanada.org/wp-content/uploads/2024/11/2024-RSA-Webinar_v1.png
ORGANIZER;CN="ITE National Capital Section":MAILTO:nationalcapital@itecanada.org
GEO:45.448628;-75.654714
X-ALT-DESC;FMTTYPE=text/html: <b><a href="https://teams.microsoft.com/l/meetup-join/19%3ameeting_NjgzODliNDMtMTQ2ZC00N2EwLWI0ZTktZDg5NzU2MmVmMDhm%40thread.v2/0?context=%7b%22Tid%22%3a%22875688ea-8b21-4b98-b25b-4b81851ad72d%22%2c%22Oid%22%3a%224a3ba1e2-3eaf-46fd-a2aa-5dc1b59160ca%22%7d">Join Virtual Event</a></b><br/><br/><div>DESCRIPTION:The City of Ottawa has recently implemented a practice guideline requesting that projects involving a roadway redesign or renewal undertake a Road Safety Audit (RSA)\, as part of the design process. Geoff and Suzanne have a combined 55+ years of experience in Road Safety Engineering. They will talk about why RSAs are an important part of a roadway design project; and what to expect if you are asked to do one.
END:VEVENT
BEGIN:VEVENT
DTSTART;TZID=America/Toronto:20241119T120000
DTEND;TZID=America/Toronto:20241119T130000
DTSTAMP:20260421T052625
CREATED:20241025T180658Z
LAST-MODIFIED:20241118T162821Z
UID:10000722-1732017600-1732021200@www.itecanada.org
SUMMARY:ITE Toronto: Accessibility and Inclusion in the Built Environment (virtual)
DESCRIPTION:Through presentation and interactive discussions\, this webinar will address how we can create more accessible and inclusive built environments for all. This includes the interaction with transportation engineering and design. \nSpeaker\nHaley Rae Lawson (she/her) BDes\, RHFAC Professional\, is a Toronto-based Senior Accessibility Specialist at Human Space\, the inclusive design profession of BDP – a global architecture\, design and urbanism consultancy. She helps to create thoughtful and innovative solutions that promote equity\, wellbeing and participation in the built environment. Haley Rae helps to lead and develop inclusive design strategies and practices across multiple complex projects and various public forums. She primarily focuses on services such as consulting\, certification and benchmarking\, guidelines and standards\, building audits\, and training. Haley Rae contributes her technical expertise on international\, national\, provincial and municipal accessibility requirements and better practices. She actively practices allyship\, and draws on her lived\, professional and volunteer experiences to advocate for inclusion\, equity and accessibility. Haley Rae’s background in environmental design\, and experience as a design educator at OCAD University\, contribute to her unique perspective in accessibility consulting. She is committed to using an intersectional approach to design\, actively including and learning from people with a range of perspectives and educating others about the diversity of ways to create spaces for all. \n \n\nJoin Virtual Event:\nhttps://teams.microsoft.com/l/meetup-join/19%3ameeting_ZmQ0NmFkM2ItODM4My00MWYyLWJkMzktYmExNDFhMWZiZDQ0%40thread.v2/0?context=%7b%22Tid%22%3a%22875688ea-8b21-4b98-b25b-4b81851ad72d%22%2c%22Oid%22%3a%224a3ba1e2-3eaf-46fd-a2aa-5dc1b59160ca%22%7d\n
URL:https://www.itecanada.org/event/ite-toronto-accessibility-and-inclusion-in-the-built-environment-virtual/
LOCATION:Toronto Area (Virtual)\, Ontario\, Canada
CATEGORIES:Virtual,Webinar
ORGANIZER;CN="ITE Toronto Section":MAILTO:activities@toronto.itecanada.org
GEO:43.725103;-79.369138
X-ALT-DESC;FMTTYPE=text/html: <b><a href="https://teams.microsoft.com/l/meetup-join/19%3ameeting_ZmQ0NmFkM2ItODM4My00MWYyLWJkMzktYmExNDFhMWZiZDQ0%40thread.v2/0?context=%7b%22Tid%22%3a%22875688ea-8b21-4b98-b25b-4b81851ad72d%22%2c%22Oid%22%3a%224a3ba1e2-3eaf-46fd-a2aa-5dc1b59160ca%22%7d">Join Virtual Event</a></b><br/><br/><div>DESCRIPTION:Through presentation and interactive discussions\, this webinar will address how we can create more accessible and inclusive built environments for all. This includes the interaction with transportation engineering and design. \nSpeaker\nHaley Rae Lawson (she/her) BDes\, RHFAC Professional\, is a Toronto-based Senior Accessibility Specialist at Human Space\, the inclusive design profession of BDP – a global architecture\, design and urbanism consultancy. She helps to create thoughtful and innovative solutions that promote equity\, wellbeing and participation in the built environment. Haley Rae helps to lead and develop inclusive design strategies and practices across multiple complex projects and various public forums. She primarily focuses on services such as consulting\, certification and benchmarking\, guidelines and standards\, building audits\, and training. Haley Rae contributes her technical expertise on international\, national\, provincial and municipal accessibility requirements and better practices. She actively practices allyship\, and draws on her lived\, professional and volunteer experiences to advocate for inclusion\, equity and accessibility. Haley Rae’s background in environmental design\, and experience as a design educator at OCAD University\, contribute to her unique perspective in accessibility consulting. She is committed to using an intersectional approach to design\, actively including and learning from people with a range of perspectives and educating others about the diversity of ways to create spaces for all. \n 
END:VEVENT
END:VCALENDAR