BEGIN:VCALENDAR
VERSION:2.0
PRODID:-//ITE Canada - ECPv6.15.20//NONSGML v1.0//EN
CALSCALE:GREGORIAN
METHOD:PUBLISH
X-WR-CALNAME:ITE Canada
X-ORIGINAL-URL:https://www.itecanada.org
X-WR-CALDESC:Events for ITE Canada
REFRESH-INTERVAL;VALUE=DURATION:PT1H
X-Robots-Tag:noindex
X-PUBLISHED-TTL:PT1H
BEGIN:VTIMEZONE
TZID:America/Toronto
BEGIN:DAYLIGHT
TZOFFSETFROM:-0500
TZOFFSETTO:-0400
TZNAME:EDT
DTSTART:20250309T070000
END:DAYLIGHT
BEGIN:STANDARD
TZOFFSETFROM:-0400
TZOFFSETTO:-0500
TZNAME:EST
DTSTART:20251102T060000
END:STANDARD
BEGIN:DAYLIGHT
TZOFFSETFROM:-0500
TZOFFSETTO:-0400
TZNAME:EDT
DTSTART:20260308T070000
END:DAYLIGHT
BEGIN:STANDARD
TZOFFSETFROM:-0400
TZOFFSETTO:-0500
TZNAME:EST
DTSTART:20261101T060000
END:STANDARD
BEGIN:DAYLIGHT
TZOFFSETFROM:-0500
TZOFFSETTO:-0400
TZNAME:EDT
DTSTART:20270314T070000
END:DAYLIGHT
BEGIN:STANDARD
TZOFFSETFROM:-0400
TZOFFSETTO:-0500
TZNAME:EST
DTSTART:20271107T060000
END:STANDARD
END:VTIMEZONE
BEGIN:VTIMEZONE
TZID:America/Edmonton
BEGIN:DAYLIGHT
TZOFFSETFROM:-0700
TZOFFSETTO:-0600
TZNAME:MDT
DTSTART:20250309T090000
END:DAYLIGHT
BEGIN:STANDARD
TZOFFSETFROM:-0600
TZOFFSETTO:-0700
TZNAME:MST
DTSTART:20251102T080000
END:STANDARD
BEGIN:DAYLIGHT
TZOFFSETFROM:-0700
TZOFFSETTO:-0600
TZNAME:MDT
DTSTART:20260308T090000
END:DAYLIGHT
BEGIN:STANDARD
TZOFFSETFROM:-0600
TZOFFSETTO:-0700
TZNAME:MST
DTSTART:20261101T080000
END:STANDARD
BEGIN:DAYLIGHT
TZOFFSETFROM:-0700
TZOFFSETTO:-0600
TZNAME:MDT
DTSTART:20270314T090000
END:DAYLIGHT
BEGIN:STANDARD
TZOFFSETFROM:-0600
TZOFFSETTO:-0700
TZNAME:MST
DTSTART:20271107T080000
END:STANDARD
END:VTIMEZONE
BEGIN:VTIMEZONE
TZID:America/Regina
BEGIN:STANDARD
TZOFFSETFROM:-0600
TZOFFSETTO:-0600
TZNAME:CST
DTSTART:20250101T000000
END:STANDARD
END:VTIMEZONE
BEGIN:VTIMEZONE
TZID:America/Halifax
BEGIN:DAYLIGHT
TZOFFSETFROM:-0400
TZOFFSETTO:-0300
TZNAME:ADT
DTSTART:20250309T060000
END:DAYLIGHT
BEGIN:STANDARD
TZOFFSETFROM:-0300
TZOFFSETTO:-0400
TZNAME:AST
DTSTART:20251102T050000
END:STANDARD
BEGIN:DAYLIGHT
TZOFFSETFROM:-0400
TZOFFSETTO:-0300
TZNAME:ADT
DTSTART:20260308T060000
END:DAYLIGHT
BEGIN:STANDARD
TZOFFSETFROM:-0300
TZOFFSETTO:-0400
TZNAME:AST
DTSTART:20261101T050000
END:STANDARD
BEGIN:DAYLIGHT
TZOFFSETFROM:-0400
TZOFFSETTO:-0300
TZNAME:ADT
DTSTART:20270314T060000
END:DAYLIGHT
BEGIN:STANDARD
TZOFFSETFROM:-0300
TZOFFSETTO:-0400
TZNAME:AST
DTSTART:20271107T050000
END:STANDARD
END:VTIMEZONE
BEGIN:VTIMEZONE
TZID:America/Vancouver
BEGIN:DAYLIGHT
TZOFFSETFROM:-0800
TZOFFSETTO:-0700
TZNAME:PDT
DTSTART:20250309T100000
END:DAYLIGHT
BEGIN:STANDARD
TZOFFSETFROM:-0700
TZOFFSETTO:-0800
TZNAME:PST
DTSTART:20251102T090000
END:STANDARD
BEGIN:DAYLIGHT
TZOFFSETFROM:-0800
TZOFFSETTO:-0700
TZNAME:PDT
DTSTART:20260308T100000
END:DAYLIGHT
BEGIN:STANDARD
TZOFFSETFROM:-0700
TZOFFSETTO:-0800
TZNAME:PST
DTSTART:20261101T090000
END:STANDARD
BEGIN:DAYLIGHT
TZOFFSETFROM:-0800
TZOFFSETTO:-0700
TZNAME:PDT
DTSTART:20270314T100000
END:DAYLIGHT
BEGIN:STANDARD
TZOFFSETFROM:-0700
TZOFFSETTO:-0800
TZNAME:PST
DTSTART:20271107T090000
END:STANDARD
END:VTIMEZONE
BEGIN:VEVENT
DTSTART;TZID=America/Toronto:20260512T110000
DTEND;TZID=America/Toronto:20260512T150000
DTSTAMP:20260424T013208
CREATED:20260407T140409Z
LAST-MODIFIED:20260421T173817Z
UID:10000872-1778583600-1778598000@www.itecanada.org
SUMMARY:[TRAINING] Engaging with Confidence: Essential Prep and Strategies for Successful Engagement
DESCRIPTION:Date:  Tuesday\, May 12\, 2026 \nTime:  11 AM – 3 PM Eastern Time / 8 AM – 12 PM Pacific Time \nLocation: Virtual \nThis session will qualify for PDH credits for attendees. \nCommunity engagement can feel daunting. What if the public is not happy with your project? What if tough questions arise? Maybe you want to strengthen your public speaking or strategic thinking when facing a crowd\, or simply refresh your knowledge of best practices. If those goals resonate\, then this training is for you. \nDuring this training\, we will focus on best practices for preparing and presenting at community meetings\, tailored for transportation professionals at all levels and all sectors. By the end of the programme\, participants will have developed or reﬁned practical skills to effectively prepare and communicate transportation related materials with the public. \nThe session will guide attendees through structured exercises that promote collaboration and problem-solving in facilitated group discussions. Participants will work together to strengthen their skills in preparing for public engagements and navigate challenging discussions with confidence. \nIf you attend this training\, you can expect to learn about: \n\nHow to prepare for engagement and best approach public speaking\nHow to structure responses to questions from the public\nKey tips for navigating tough questions\nGroup exercises and sharing\n\n  \nLEARNING OUTCOMES\nAt the conclusion of the training programme\, attendees\, will leave having honed or developed their skills in order to: \n\nBuild confidence in public speaking and engagement\nLearn structured approaches to prepare for community engagements\nDevelop strategies for handling challenging questions\nDiscuss best practices for engaging with the community\n\n  \nAUDIENCE\nThe sessions are designed to be inclusive for transportation professionals of all stages in their career\, as well as sectors of the industry.  \nYoung Professionals \nThis session is designed to build critical skills and knowledge for effective communication and engagement with the public. It will foster an environment of learning through practical exercises that encourage critical thinking\, problem-solving\, and collaboration with industry peers. \nExperienced Professionals \nThis session is designed to hone communication skills and help build a practical toolkit for experienced professionals\, whether for their own work or to support the development of their team members. All materials will be created to be clear\, concise\, and easily transferable for use in other contexts. \n  \nFACILITATORS\nJocelyn Deeks\, MCIP\, RPP\nLead Trainer \nJocelyn Deeks is a Partner at Bousfields and founded the Community Engagement practice. Jocelyn is a Registered Professional Planner and brings decades of experience working at the intersection of urban and land-use planning\, development\, and community engagement in the public and private sectors. She has developed and executed stakeholder engagement strategies for some of the GTHA’s most complex and challenging projects. \nLewis Walker\nAssistant Trainer \nLewis has experience in community engagement within the private and non-profit sectors and is passionate about making city building processes accessible. He brings creative critical thinking and a commitment to excellence to all his work and projects. He develops effective and inclusive strategies across the Greater Toronto and Hamilton Area\, working on complex projects ranging from large-scale institutional plans to site-specific developments. \n  \nREGISTRATION\nDeadline: Registration will close on Monday\, May 11\, 2026 at 12 noon ET \nNEW! Group Discount: Receive a 15% discount on 3 or more ITE Member ($275) and/or Non-Member ($400) registrations purchased in the same transaction. Discount will be automatically applied to the cart on the checkout/payment page if at least three eligible tickets are purchased together. \n\n\n\n\nCategory\nFee\nNotes\n\n\n\n\nITE Member*\n$275\nITE membership status must be valid at the time of registration with current dues paid. Eligible for 15% group discount.\n\n\nNon-Member\n$400\nAnyone who is not a current paid ITE member. Eligible for 15% group discount.\n\n\nITE Young Member*\n$200\nMust be an ITE Young Member (a non-student between the ages of 22 and 29) with current dues paid\n\n\nITE Student Member*\n$150\nMust be a current full-time post-secondary student and registered ITE member. ITE membership is free for full-time undergrad and graduate students. Become a Student ITE Member here.\n\n\n*ITE member number required to register for member rates. If you do not know your ITE member number\, you can retrieve it here on ite.org by clicking “Forgot Username”.\n\n\n\n\nMeeting Link: The virtual meeting join link will be emailed in your registration confirmation email.\n\nJoin Virtual Event:\nhttps://teams.microsoft.com/meet/24782672545649?p=j7RfAw6efMjzb8oPVa\n
URL:https://www.itecanada.org/event/training-engagement-may-2026/
LOCATION:Ottawa Area (Virtual)\, Ottawa\, ON\, Canada
CATEGORIES:Training,Virtual
ATTACH;FMTTYPE=image/png:https://www.itecanada.org/wp-content/uploads/2026/04/Training-Engagement-May-2026.png
ORGANIZER;CN="ITE Canada Training Committee":MAILTO:training@itecanada.org
GEO:45.448628;-75.654714
X-ALT-DESC;FMTTYPE=text/html: <b><a href="https://teams.microsoft.com/meet/24782672545649?p=j7RfAw6efMjzb8oPVa">Join Virtual Event</a></b><br/><br/><div>DESCRIPTION:Date:  Tuesday\, May 12\, 2026 \nTime:  11 AM – 3 PM Eastern Time / 8 AM – 12 PM Pacific Time \nLocation: Virtual \nThis session will qualify for PDH credits for attendees. \nCommunity engagement can feel daunting. What if the public is not happy with your project? What if tough questions arise? Maybe you want to strengthen your public speaking or strategic thinking when facing a crowd\, or simply refresh your knowledge of best practices. If those goals resonate\, then this training is for you. \nDuring this training\, we will focus on best practices for preparing and presenting at community meetings\, tailored for transportation professionals at all levels and all sectors. By the end of the programme\, participants will have developed or reﬁned practical skills to effectively prepare and communicate transportation related materials with the public. \nThe session will guide attendees through structured exercises that promote collaboration and problem-solving in facilitated group discussions. Participants will work together to strengthen their skills in preparing for public engagements and navigate challenging discussions with confidence. \nIf you attend this training\, you can expect to learn about: \n\nHow to prepare for engagement and best approach public speaking\nHow to structure responses to questions from the public\nKey tips for navigating tough questions\nGroup exercises and sharing\n\n  \nLEARNING OUTCOMES\nAt the conclusion of the training programme\, attendees\, will leave having honed or developed their skills in order to: \n\nBuild confidence in public speaking and engagement\nLearn structured approaches to prepare for community engagements\nDevelop strategies for handling challenging questions\nDiscuss best practices for engaging with the community\n\n  \nAUDIENCE\nThe sessions are designed to be inclusive for transportation professionals of all stages in their career\, as well as sectors of the industry.  \nYoung Professionals \nThis session is designed to build critical skills and knowledge for effective communication and engagement with the public. It will foster an environment of learning through practical exercises that encourage critical thinking\, problem-solving\, and collaboration with industry peers. \nExperienced Professionals \nThis session is designed to hone communication skills and help build a practical toolkit for experienced professionals\, whether for their own work or to support the development of their team members. All materials will be created to be clear\, concise\, and easily transferable for use in other contexts. \n  \nFACILITATORS\nJocelyn Deeks\, MCIP\, RPP\nLead Trainer \nJocelyn Deeks is a Partner at Bousfields and founded the Community Engagement practice. Jocelyn is a Registered Professional Planner and brings decades of experience working at the intersection of urban and land-use planning\, development\, and community engagement in the public and private sectors. She has developed and executed stakeholder engagement strategies for some of the GTHA’s most complex and challenging projects. \nLewis Walker\nAssistant Trainer \nLewis has experience in community engagement within the private and non-profit sectors and is passionate about making city building processes accessible. He brings creative critical thinking and a commitment to excellence to all his work and projects. He develops effective and inclusive strategies across the Greater Toronto and Hamilton Area\, working on complex projects ranging from large-scale institutional plans to site-specific developments. \n  \nREGISTRATION\nDeadline: Registration will close on Monday\, May 11\, 2026 at 12 noon ET \nNEW! Group Discount: Receive a 15% discount on 3 or more ITE Member ($275) and/or Non-Member ($400) registrations purchased in the same transaction. Discount will be automatically applied to the cart on the checkout/payment page if at least three eligible tickets are purchased together. \n\n\n\n\nCategory\nFee\nNotes\n\n\n\n\nITE Member*\n$275\nITE membership status must be valid at the time of registration with current dues paid. Eligible for 15% group discount.\n\n\nNon-Member\n$400\nAnyone who is not a current paid ITE member. Eligible for 15% group discount.\n\n\nITE Young Member*\n$200\nMust be an ITE Young Member (a non-student between the ages of 22 and 29) with current dues paid\n\n\nITE Student Member*\n$150\nMust be a current full-time post-secondary student and registered ITE member. ITE membership is free for full-time undergrad and graduate students. Become a Student ITE Member here.\n\n\n*ITE member number required to register for member rates. If you do not know your ITE member number\, you can retrieve it here on ite.org by clicking “Forgot Username”.\n\n\n\n\nMeeting Link: The virtual meeting join link will be emailed in your registration confirmation email.
END:VEVENT
BEGIN:VEVENT
DTSTART;TZID=America/Edmonton:20260512T113000
DTEND;TZID=America/Edmonton:20260512T130000
DTSTAMP:20260424T013208
CREATED:20260416T130815Z
LAST-MODIFIED:20260416T215559Z
UID:10000875-1778585400-1778590800@www.itecanada.org
SUMMARY:ITE Southern Alberta Luncheon: Human Factors and Traffic Engineering - May 2026
DESCRIPTION:Title: Bridging Human Factors and Traffic Engineering to Improve Road Safety \nHuman factors play a foundational role in transportation safety\, shaping how road users perceive\, interpret\, and respond to the roadway environment. Despite advances in geometric design\, traffic control\, and safety analysis\, many collisions still arise from mismatches between roadway design and human capabilities or limitations. Modern safety philosophies such as the Safe System and Vision Zero frameworks emphasize creating transportation networks that anticipate real-world human behavior and minimize the consequences of error. \nWhile traditional traffic engineering focuses on geometric design and regulatory compliance\, it can overlook elements such as driver perception\, cognitive workload\, and decision-making. This presentation will demonstrate how integrating Human Factors and Traffic Engineering expertise can improve safety outcomes. Through case studies and applied research\, we will explore how behavioral insights combined with engineering analysis can identify latent risks\, enhance intersection design\, and support the implementation of cost effective countermeasures. \nDate: Tuesday\, May 12\, 2026 \nTime: 11:30am-1:00pm MST \nLocation: Sandman Hotel Calgary\, 888 7 Ave. SW\, Calgary\, AB T2P 3J3 Canada \n==The deadline to register is 5 pm on May 5\, 2026== \n  \nPresenter Bios: \n \nJason Kumagai\, M.Sc.\, CCPE\, CHFP – Practice Lead\, Human Factors \nJason Kumagai is Practice Lead of the Human Factors group at 30 Forensic Engineering. During his career in Human Factors\, Jason has conducted and managed projects and research in Human Factors in a wide range of industries including energy\, health care\, transportation\, defence\, and mining. Specializing in fatigue risk management\, he has helped companies develop and implement fatigue risk management programs\, including investigations of major accidents. Jason is a certified Human Factors/ Ergonomics professional in both Canada and the U.S. and is nationally recognized for his leadership in Human Factors and Fatigue Management. Jason has served as a regional president of the Association of Canadian Ergonomists\, and president of the Canadian College for the Certification of Professional Ergonomists.
URL:https://www.itecanada.org/event/ite-southern-alberta-luncheon-human-factors-and-traffic-engineering-may-2026/
LOCATION:Sandman Hotel Calgary\, 888 7 Ave. SW\, Calgary\, AB\, T2P 3J3\, Canada
CATEGORIES:Luncheon,Presentation
ORGANIZER;CN="ITE Southern Alberta Section":MAILTO:southernalberta@itecanada.org
GEO:51.0471363;-114.0800671
X-APPLE-STRUCTURED-LOCATION;VALUE=URI;X-ADDRESS=Sandman Hotel Calgary 888 7 Ave. SW Calgary AB T2P 3J3 Canada;X-APPLE-RADIUS=500;X-TITLE=888 7 Ave. SW:geo:-114.0800671,51.0471363
END:VEVENT
BEGIN:VEVENT
DTSTART;TZID=America/Regina:20260514T100000
DTEND;TZID=America/Regina:20260514T153000
DTSTAMP:20260424T013208
CREATED:20260406T135746Z
LAST-MODIFIED:20260415T000343Z
UID:10000866-1778752800-1778772600@www.itecanada.org
SUMMARY:ITE Saskatchewan: Spring Session - May 14\, 2026
DESCRIPTION:Your ITE Saskatchewan Executive is actively planning our Spring Session. Please join us for this opportunity to network and learn with your fellow engineers\, planners\, and academics to hear about transportation initiatives in our communities. Lunch will be provided. \nWhen: Thursday May 14\, 2026 \n\n9:30 AM: Registration open\n10:00 AM: Program begins\n3:30PM: Event ends\n\nWhere: Room 139\, College Avenue Campus\, 2155 College Campus\, Regina \nAgenda: \n\nThe City of Regina – Accessible pedestrian app\nCIMA+ – Saskatoons Bus Rapid Transit\nAnd more!\n\nRegistration: \n\nMembers: $120\nNon-members: $155\nStudents: $20\n\n=== Ticket sales for this event close on May 6 at 5:00 PM. ===
URL:https://www.itecanada.org/event/ite-saskatchewan-spring-session-may-14-2026/
LOCATION:Room 139\, College Avenue Campus\, 2155 College Campus\, Regina\, 2155 College Campus\, Regina\, Saskatchewan\, S4P 4V5\, Canada
CATEGORIES:Luncheon,Presentation,Social
ORGANIZER;CN="ITE Saskatchewan Section":MAILTO:saskatchewan@itecanada.org
END:VEVENT
BEGIN:VEVENT
DTSTART;TZID=America/Halifax:20260520T190000
DTEND;TZID=America/Halifax:20260521T160000
DTSTAMP:20260424T013208
CREATED:20260416T140346Z
LAST-MODIFIED:20260423T123746Z
UID:10000877-1779303600-1779379200@www.itecanada.org
SUMMARY:ITE Atlantic Canada: Spring Technical Session - May 2026
DESCRIPTION:Social Event\nWednesday\, May 20\, 7–10 pm \nOur social event this year will be held the evening before the Technical Session at The Pint Public House (1575 Argyle Street\, Halifax) in downtown Halifax. We’ve booked their downstairs Arcade Bar that features arcade games\, pinball\, pool\, and basketball. There will be a range of bar snacks provided. \nSpring Technical Session\nThursday\, May 21\, 8:15 am – 4 pm \nOur technical session will be held at Dalhousie University\, Sexton IDEA Building\, Irving Auditorium (5257 Morris Street\, Halifax). As always\, we’ll have a day full of technical presentations highlighting a small portion of the great work going on around the region. A light breakfast will be provided\, along with lunch and snacks during breaks in the day. \n\n\n\nTime\nTopic\nSpeaker/Presenter\n\n\n\n\n8:15 am\nRegistration/Breakfast (provided) / Networking\n\n\n\n8:45 am\nOpening Remarks\nJill DeMerchant\, M.Eng.\, P.Eng. – ITE Atlantic Canada Section President\n\n\n9:00 am\nCharlotte St – From Traffic Counts to Construction\nBrendan McPhee\, M.SC.E\, P.Eng. – CBCL Limited\n\n\n9:30 am\nCanada’s First Displaced Left Turn: From Concept to Reality in Prince Edward Island\nDamir Bjelica\, M.Eng.\, P.Eng.\, PMP\, RSP2IB – WSP\n\n\n9:50 am\nCoffee Break (provided) & DaITRAC Poster Displays\n\n\n\n10:20 am\nHRM’s Integrated Mobility Plan Action Update\nSiobhan Witherbee\, MCIP\, LPP – Halifax Regional Municipality\n\n\n10:50 am\nPanel Discussion: On the Screen: Modelling Traffic Solutions\nModerated by: Garrett Donaher\, P.Eng. – Viaris Engineering Inc.\n\n\n11:50 pm\nLunch (provided)\n\n\n\n1:00 pm\nPanel Discussion: On the Streets: Building Traffic Infrastructure\nModerated by: Hannah McBride\, MSCE\, P.Eng. – HRM\n\n\n2:00 pm\nTrunk 4 AT Corridor Conversion Project\nDwayne Cross\, P.Eng. – Nova Scotia Department of Public Works\n\n\n2:30 pm\nCoffee Break (provided) & DalTRAC Poster Displays\n\n\n\n2:50 pm\nHindsight is 20-20\, a Retrospective Look at Traffic Forecasts in HRM\nPaul Burgess\, M.Eng.\, P.Eng. – Sessional Instructor\, Dalhousie University\n\n\n3:20 pm\nDaITRAC Raffle\nDalhousie Student Chapter\n\n\n3:30 pm\nClosing Remarks\nJill DeMerchant\, M.Eng.\, P.Eng. – ITE Atlantic Canada Section President\n\n\n\nMeeting Sponsors\n\n\n\n\n\n\n\n\n\n\n\n\n\n\n\n\nVenue Sponsor\n   \nHotel Block\nNo hotel block is being offered for this event. Guests traveling from out of town will find numerous hotel options located within a short walking distance of the venue. \nRegistration\n\n$75 for members\n$100 for non-members (includes breakfast\, coffee breaks and lunch\nFree for students\nFree for presenters and panel speakers\n\n==Registration ends on Friday\, May 15\, at 11:30 PM==
URL:https://www.itecanada.org/event/ite-atlantic-spring-technical-session-2026/
LOCATION:Irving Auditorium\, Sexton IDEA Building\, Dalhousie University\, 5257 Morris Street\, Halifax\, NS\, Canada
CATEGORIES:Presentation,Social,Symposium
ATTACH;FMTTYPE=image/png:https://www.itecanada.org/wp-content/uploads/2026/04/Atlantic-Spring-Session.png
ORGANIZER;CN="ITE Atlantic Canada Section":MAILTO:atlantic@itecanada.org
GEO:44.6415145;-63.5729162
X-APPLE-STRUCTURED-LOCATION;VALUE=URI;X-ADDRESS=Irving Auditorium Sexton IDEA Building Dalhousie University 5257 Morris Street Halifax NS Canada;X-APPLE-RADIUS=500;X-TITLE=5257 Morris Street:geo:-63.5729162,44.6415145
END:VEVENT
BEGIN:VEVENT
DTSTART;TZID=America/Toronto:20260526T100000
DTEND;TZID=America/Toronto:20260526T120000
DTSTAMP:20260424T013208
CREATED:20260422T161112Z
LAST-MODIFIED:20260422T161559Z
UID:10000879-1779789600-1779796800@www.itecanada.org
SUMMARY:ITE Section du Québec: Formation STM - Angles morts des autobus / STM Training – Bus Blind Spots
DESCRIPTION:Formation STM – Angles morts des autobus\nCette formation pratique portera sur les angles morts des autobus et plus généralement sur les enjeux quotidiens auxquels font face les chauffeurs des autobus. \nDétails de l’événement\nDate :  mardi\, le 26 mai 2026\nHeure : de 10h00 à 12h00\nLieu : Centre de transport LaSalle (STM)\, 7770 rue Saint-Patrick\, Montréal \nCoût: \n\nGratuit ​​pour les membres et non-membres de l’ITE\nNombre de places limitées – inscriptions obligatoires\n\n\nSTM Training – Bus Blind Spots\nThis practical training will focus on bus blind spots and more generally on the daily challenges faced by bus drivers. \nEvent Details \nDate:  Tuesday\, May 26\, 2026\nTime: 10 am to 12 pm\nLocation: STM LaSalle Transport Centre\, 7770 Saint-Patrick St\, Montréal \nCost: \n\nFree for both ITE members and non-members\nSpace limited – registration required\n\nNote: This event will be conducted in French.
URL:https://www.itecanada.org/event/ite-section-quebec-formation-stm-angles-morts-des-autobus/
LOCATION:Centre de transport LaSalle (STM)\, 7770 rue Saint-Patrick\, Montréal\, Québec\, H8N 2X2\, Canada
CATEGORIES:Tour,Training
ORGANIZER;CN="ITE Quebec Section":MAILTO:info@citequebec.org
END:VEVENT
BEGIN:VEVENT
DTSTART;TZID=America/Vancouver:20260530T183000
DTEND;TZID=America/Vancouver:20260531T143000
DTSTAMP:20260424T013208
CREATED:20260125T151555Z
LAST-MODIFIED:20260423T162416Z
UID:10000850-1780165800-1780237800@www.itecanada.org
SUMMARY:ITE Canada 2026 Student Leadership Summit (SLS)
DESCRIPTION:Save the date for the annual ITE Canada Student Leadership Summit in Victoria on May 30th and May 31st. We look forward to hosting and meeting students from across Canada to learn about Leadership Through Sustainability and Reconciliation! Watch this space for more details to come. \nDate/Time: Saturday\, May 30 (evening) to Sunday\, May 31 (afternoon). Times to be confirmed. \n\nMeals provided: Dinner on Saturday\, Breakfast + Lunch on Sunday\n\nLocation: University of Victoria \nREGISTRATION\nEarly bird ticket sales are open now with the prices below: \n\nITE Member: $25\nNon-ITE Member: $35\n\nEarly bird deadline: Saturday\, May 9\, 2026 \nAfter May 9th\, the ticket sales will increase to the below: \n\nITE Member: $35\nNon-ITE Member: $45\n\nRegistration closes Saturday\, May 23\, 2026 \nYou must be a registered ITE member to receive the member pricing. If you’re not already an ITE student member\, join here! ITE membership is FREE for full-time undergraduate and graduate students. \nWe are grateful to be gathering at the University of Victoria\, on the traditional territory of the Lekwungen-speaking peoples of the Songhees Nation and Xʷsepsəm Nation\, and W̱SÁNEĆ peoples. We invite you to join ITE Canada District in our journey of education and reconciliation. Learn about the peoples who have stewarded the land on which we’ll gather since time immemorial and support Indigenous businesses in the area here.
URL:https://www.itecanada.org/event/ite-canada-2026-sls/
LOCATION:University of Victoria
CATEGORIES:Student
ATTACH;FMTTYPE=image/png:https://www.itecanada.org/wp-content/uploads/2026/01/SLS-2026-Landscape-Banner.png
END:VEVENT
BEGIN:VEVENT
DTSTART;TZID=America/Vancouver:20260531T180000
DTEND;TZID=America/Vancouver:20260603T133000
DTSTAMP:20260424T013208
CREATED:20250911T202655Z
LAST-MODIFIED:20250911T202655Z
UID:10000805-1780250400-1780493400@www.itecanada.org
SUMMARY:ITE Canada District 2026 Annual Conference
DESCRIPTION:You are invited to join hundreds from Canada’s community of transportation professionals to foster connections\, share best practices and research\, and exchange ideas for safe and healthy mobility! \n\nSAVE THE DATE \n\n\n\n\n\nWHEN: Sunday\, May 31 to Wednesday\, June 3\, 2026 \nWHERE: Victoria Conference Centre – 720 Douglas St\, Victoria\, BC\nlocated on the traditional territories of the Lekwungen-speaking peoples of the Songhees Nation and Xwsepsum Nation.
URL:https://www.itecanada.org/event/ite-canada-district-2026-annual-conference/
LOCATION:Quebec
CATEGORIES:Conferences
ATTACH;FMTTYPE=image/jpeg:https://www.itecanada.org/wp-content/uploads/2025/07/Victoria-2026-Save-the-Date-widescreen-Large.jpeg
ORGANIZER;CN="ITE Canada":MAILTO:admin@itecanada.org
END:VEVENT
END:VCALENDAR