BEGIN:VCALENDAR
VERSION:2.0
PRODID:-//ITE Canada - ECPv6.15.20//NONSGML v1.0//EN
CALSCALE:GREGORIAN
METHOD:PUBLISH
X-WR-CALNAME:ITE Canada
X-ORIGINAL-URL:https://www.itecanada.org
X-WR-CALDESC:Events for ITE Canada
REFRESH-INTERVAL;VALUE=DURATION:PT1H
X-Robots-Tag:noindex
X-PUBLISHED-TTL:PT1H
BEGIN:VTIMEZONE
TZID:America/Toronto
BEGIN:DAYLIGHT
TZOFFSETFROM:-0500
TZOFFSETTO:-0400
TZNAME:EDT
DTSTART:20210314T070000
END:DAYLIGHT
BEGIN:STANDARD
TZOFFSETFROM:-0400
TZOFFSETTO:-0500
TZNAME:EST
DTSTART:20211107T060000
END:STANDARD
BEGIN:DAYLIGHT
TZOFFSETFROM:-0500
TZOFFSETTO:-0400
TZNAME:EDT
DTSTART:20220313T070000
END:DAYLIGHT
BEGIN:STANDARD
TZOFFSETFROM:-0400
TZOFFSETTO:-0500
TZNAME:EST
DTSTART:20221106T060000
END:STANDARD
BEGIN:DAYLIGHT
TZOFFSETFROM:-0500
TZOFFSETTO:-0400
TZNAME:EDT
DTSTART:20230312T070000
END:DAYLIGHT
BEGIN:STANDARD
TZOFFSETFROM:-0400
TZOFFSETTO:-0500
TZNAME:EST
DTSTART:20231105T060000
END:STANDARD
BEGIN:DAYLIGHT
TZOFFSETFROM:-0500
TZOFFSETTO:-0400
TZNAME:EDT
DTSTART:20240310T070000
END:DAYLIGHT
BEGIN:STANDARD
TZOFFSETFROM:-0400
TZOFFSETTO:-0500
TZNAME:EST
DTSTART:20241103T060000
END:STANDARD
BEGIN:DAYLIGHT
TZOFFSETFROM:-0500
TZOFFSETTO:-0400
TZNAME:EDT
DTSTART:20250309T070000
END:DAYLIGHT
BEGIN:STANDARD
TZOFFSETFROM:-0400
TZOFFSETTO:-0500
TZNAME:EST
DTSTART:20251102T060000
END:STANDARD
BEGIN:DAYLIGHT
TZOFFSETFROM:-0500
TZOFFSETTO:-0400
TZNAME:EDT
DTSTART:20260308T070000
END:DAYLIGHT
BEGIN:STANDARD
TZOFFSETFROM:-0400
TZOFFSETTO:-0500
TZNAME:EST
DTSTART:20261101T060000
END:STANDARD
END:VTIMEZONE
BEGIN:VEVENT
DTSTART;TZID=America/Toronto:20251023T190000
DTEND;TZID=America/Toronto:20251023T210000
DTSTAMP:20260425T100941
CREATED:20251010T152527Z
LAST-MODIFIED:20251010T162747Z
UID:10000823-1761246000-1761253200@www.itecanada.org
SUMMARY:[ITE Hamilton Section + ITE McMaster Student Chapter Joint Event] Accessibility in the Built Environment - Oct 2025
DESCRIPTION:The ITE Hamilton Section and ITE McMaster Student Chapter invite you to a joint session for a FREE\, insightful discussion on accessibility in the built environment with Julia Pannolino\, Senior Mobility Engineer at R.J. Burnside and Associates. \nDATE:  Thursday\, October 23\, 2025 \nTIME:   7:00pm-9:00pm EST \nLOCATION: McMaster University\, Hatch Building 204A/B\, Hamilton\, ON \n  \nAccessibility goes beyond meeting codes and regulations\, it’s about designing environments that are safe\, inclusive\, and welcoming for all. In this presentation\, we’ll discuss the principles of accessible design\, highlight common challenges\, and demonstrate how thoughtful planning can remove barriers and foster inclusion. \nPlease see the map below of McMaster University indicating the nearest bus stops and parking lots near the meeting location. \nThis event is FREE but registration is required before October 21\, at 11:30pm\, via this link:\nREGISTRATION FORM \n  \nPRESENTER: \nJulia Pannolino\, Senior Mobility Engineer at R.J. Burnside and Associates \nJulia  is a Senior Mobility Engineer at R.J. Burnside & Associates Limited and the current Treasurer for the ITE Hamilton Section. She specializes in accessible and inclusive transportation design\, with experience spanning active transportation and mobility planning projects across Ontario. \nJulia is passionate about integrating accessibility principles into every stage of transportation planning and design—creating environments that are safe\, equitable\, and welcoming for all users. Her collaborative and people-focused approach bridges engineering\, planning\, and community perspectives to deliver meaningful outcomes. \nA licensed Professional Engineer in Ontario\, Julia also contributes to the advancement of the profession through her active involvement in ITE and other technical committees. \n 
URL:https://www.itecanada.org/event/ite-hamilton-ite-mcmaster-student-chapter-accessibility-in-the-built-environment-oct2025/
CATEGORIES:Presentation,Student
ATTACH;FMTTYPE=image/png:https://www.itecanada.org/wp-content/uploads/2025/10/ITE-Hamilton-Event.png
ORGANIZER;CN="ITE Hamilton Section":MAILTO:hamilton@itecanada.org
END:VEVENT
BEGIN:VEVENT
DTSTART;TZID=America/Toronto:20240608T180000
DTEND;TZID=America/Toronto:20240609T153000
DTSTAMP:20260425T100941
CREATED:20240509T150359Z
LAST-MODIFIED:20240524T184559Z
UID:10000672-1717869600-1717947000@www.itecanada.org
SUMMARY:ITE McMaster: 2024 Student Leadership Summit
DESCRIPTION:This event is for ITE student members. Ticket sales end on June 4\, 2024. \nITE McMaster Student Chapter is excited to present the 2024 Student Leadership Summit! \nITE McMaster Student Chapter will be hosting the ITE Student Leadership Summit (SLS) in the days leading up to the ITE Hamilton Conference on Saturday\, June 8th from 6pm – 10pm (CIBC Hall) and on Sunday\, June 9th from 9am – 3:30pm (David Braley Health Sciences Centre). ITE Students and Young Professionals are encouraged to participate in the summit to learn more about team dynamics\, taking on a leading role\, networking skills and more! You will have a fantastic opportunity to gain insight from industry leaders and meet transportation student from across Canada. Through panel discussions\, presentations from Young ITE leaders\, team building activities\, and learning to network from the pros\, you’ll be sure to finish your weekend having learned new and valuable skills! \nDate & Time: \nSaturday\, June 8th\, 2024 from 6pm – 10pm\nSunday\, June 9th\, 2024 from 9am – 3:30pm \nBus Route: Route 10 – B LINE EXPRESS \nHomewood Suites -> McMaster:\nTake the 10 from King at Queen\, get off at Main opposite Emerson\nOR\nTake the 5 from King at Caroline\, get off at Main opposite Emerson \n***\nMcMaster ->Homewood Suites: \nTake the 10 from Emerson at Main\, get off at Main at Queen\nOR\nTake the 5 from Sterling at Forsyth\, get off at Main St W at Caroline St S \nLocation Address: \nOn Saturday – CIBC Hall\, 3rd Floor McMaster University Student Centre (MUSC) on McMaster Campus (1280 Main St W\, Hamilton ON)\nOn Sunday – David Braley Health Sciences Centre\, Rm 2032 in Downtown Hamilton (100 Main St W\, Hamilton ON) \nSchedule at a Glance: \nOn Saturday – Buffet style dinner\, Panel Discussion from industry professionals and young professionals\, and teambuilding games\nOn Sunday – A presentation from Bill Tibbo on Leadership\, Multiple presentations from Young ITE Professionals and Leaders in ITE Canada\, catered lunch\, and fun ice breaker games \n\nTickets \n\nITE members: $25\nNon-ITE members: $35\n\nIf you’re not already an ITE student member\, join here! ITE membership FREE for full-time undergraduate and graduate students.
URL:https://www.itecanada.org/event/ite-mcmaster-2024-student-leadership-summit/
LOCATION:CIBC Hall\, 3rd Floor McMaster University Student Centre (MUSC) on McMaster Campus\, CIBC Hall\, 3rd Floor McMaster University Student Centre (MUSC) on McMaster Campus\, Hamilton\, Ontario\, Canada
CATEGORIES:Conferences
ATTACH;FMTTYPE=image/png:https://www.itecanada.org/wp-content/uploads/2024/05/SLS-Banner-Hamilton-Hall.png
GEO:43.263475;-79.9177254
X-APPLE-STRUCTURED-LOCATION;VALUE=URI;X-ADDRESS=CIBC Hall 3rd Floor McMaster University Student Centre (MUSC) on McMaster Campus CIBC Hall 3rd Floor McMaster University Student Centre (MUSC) on McMaster Campus Hamilton Ontario Canada;X-APPLE-RADIUS=500;X-TITLE=CIBC Hall\, 3rd Floor McMaster University Student Centre (MUSC) on McMaster Campus:geo:-79.9177254,43.263475
END:VEVENT
BEGIN:VEVENT
DTSTART;TZID=America/Toronto:20221129T183000
DTEND;TZID=America/Toronto:20221129T203000
DTSTAMP:20260425T100941
CREATED:20221128T172225Z
LAST-MODIFIED:20221128T172624Z
UID:10000532-1669746600-1669753800@www.itecanada.org
SUMMARY:ITE Metrolinx Seminar & Networking Night - McMaster University Student's Chapter
DESCRIPTION:The ITE McMaster University Student’s Chapter is hosting an ITE Metrolinx Seminar and Networking Night on Tuesday November 29th (tomorrow)\, from 6:30pm-8:30pm\, at McMaster University in Room DSB AB102.\nPlease see below for a link to the event and information on how to RSVP.\n\n\nhttps://www.linkedin.com/feed/update/urn:li:activity:7001940822078238720/
URL:https://www.itecanada.org/event/ite-metrolinx-seminar-networking-night-mcmaster-university-students-chapter/
LOCATION:McMaster Unversity (DSB AB 102)\, Hamilton\, Ontario\, Canada
CATEGORIES:Seminar
ATTACH;FMTTYPE=image/jpeg:https://www.itecanada.org/wp-content/uploads/2022/11/unnamed-9-2.jpg
GEO:43.261339951528;-79.920341192308
END:VEVENT
END:VCALENDAR