BEGIN:VCALENDAR
VERSION:2.0
PRODID:-//ITE Canada - ECPv6.15.20//NONSGML v1.0//EN
CALSCALE:GREGORIAN
METHOD:PUBLISH
X-ORIGINAL-URL:https://www.itecanada.org
X-WR-CALDESC:Events for ITE Canada
REFRESH-INTERVAL;VALUE=DURATION:PT1H
X-Robots-Tag:noindex
X-PUBLISHED-TTL:PT1H
BEGIN:VTIMEZONE
TZID:America/Toronto
BEGIN:DAYLIGHT
TZOFFSETFROM:-0500
TZOFFSETTO:-0400
TZNAME:EDT
DTSTART:20250309T070000
END:DAYLIGHT
BEGIN:STANDARD
TZOFFSETFROM:-0400
TZOFFSETTO:-0500
TZNAME:EST
DTSTART:20251102T060000
END:STANDARD
BEGIN:DAYLIGHT
TZOFFSETFROM:-0500
TZOFFSETTO:-0400
TZNAME:EDT
DTSTART:20260308T070000
END:DAYLIGHT
BEGIN:STANDARD
TZOFFSETFROM:-0400
TZOFFSETTO:-0500
TZNAME:EST
DTSTART:20261101T060000
END:STANDARD
BEGIN:DAYLIGHT
TZOFFSETFROM:-0500
TZOFFSETTO:-0400
TZNAME:EDT
DTSTART:20270314T070000
END:DAYLIGHT
BEGIN:STANDARD
TZOFFSETFROM:-0400
TZOFFSETTO:-0500
TZNAME:EST
DTSTART:20271107T060000
END:STANDARD
END:VTIMEZONE
BEGIN:VEVENT
DTSTART;TZID=America/Toronto:20260526T100000
DTEND;TZID=America/Toronto:20260526T120000
DTSTAMP:20260424T025528
CREATED:20260422T161112Z
LAST-MODIFIED:20260422T161559Z
UID:10000879-1779789600-1779796800@www.itecanada.org
SUMMARY:ITE Section du Québec: Formation STM - Angles morts des autobus / STM Training – Bus Blind Spots
DESCRIPTION:Formation STM – Angles morts des autobus\nCette formation pratique portera sur les angles morts des autobus et plus généralement sur les enjeux quotidiens auxquels font face les chauffeurs des autobus. \nDétails de l’événement\nDate :  mardi\, le 26 mai 2026\nHeure : de 10h00 à 12h00\nLieu : Centre de transport LaSalle (STM)\, 7770 rue Saint-Patrick\, Montréal \nCoût: \n\nGratuit ​​pour les membres et non-membres de l’ITE\nNombre de places limitées – inscriptions obligatoires\n\n\nSTM Training – Bus Blind Spots\nThis practical training will focus on bus blind spots and more generally on the daily challenges faced by bus drivers. \nEvent Details \nDate:  Tuesday\, May 26\, 2026\nTime: 10 am to 12 pm\nLocation: STM LaSalle Transport Centre\, 7770 Saint-Patrick St\, Montréal \nCost: \n\nFree for both ITE members and non-members\nSpace limited – registration required\n\nNote: This event will be conducted in French.
URL:https://www.itecanada.org/event/ite-section-quebec-formation-stm-angles-morts-des-autobus/
LOCATION:Centre de transport LaSalle (STM)\, 7770 rue Saint-Patrick\, Montréal\, Québec\, H8N 2X2\, Canada
CATEGORIES:Tour,Training
ORGANIZER;CN="ITE Quebec Section":MAILTO:info@citequebec.org
END:VEVENT
END:VCALENDAR