BEGIN:VCALENDAR
VERSION:2.0
PRODID:-//ITE Canada - ECPv6.15.20//NONSGML v1.0//EN
CALSCALE:GREGORIAN
METHOD:PUBLISH
X-WR-CALNAME:ITE Canada
X-ORIGINAL-URL:https://www.itecanada.org
X-WR-CALDESC:Events for ITE Canada
REFRESH-INTERVAL;VALUE=DURATION:PT1H
X-Robots-Tag:noindex
X-PUBLISHED-TTL:PT1H
BEGIN:VTIMEZONE
TZID:America/Winnipeg
BEGIN:DAYLIGHT
TZOFFSETFROM:-0600
TZOFFSETTO:-0500
TZNAME:CDT
DTSTART:20250309T080000
END:DAYLIGHT
BEGIN:STANDARD
TZOFFSETFROM:-0500
TZOFFSETTO:-0600
TZNAME:CST
DTSTART:20251102T070000
END:STANDARD
BEGIN:DAYLIGHT
TZOFFSETFROM:-0600
TZOFFSETTO:-0500
TZNAME:CDT
DTSTART:20260308T080000
END:DAYLIGHT
BEGIN:STANDARD
TZOFFSETFROM:-0500
TZOFFSETTO:-0600
TZNAME:CST
DTSTART:20261101T070000
END:STANDARD
BEGIN:DAYLIGHT
TZOFFSETFROM:-0600
TZOFFSETTO:-0500
TZNAME:CDT
DTSTART:20270314T080000
END:DAYLIGHT
BEGIN:STANDARD
TZOFFSETFROM:-0500
TZOFFSETTO:-0600
TZNAME:CST
DTSTART:20271107T070000
END:STANDARD
END:VTIMEZONE
BEGIN:VEVENT
DTSTART;TZID=America/Winnipeg:20260428T120000
DTEND;TZID=America/Winnipeg:20260428T133000
DTSTAMP:20260425T060245
CREATED:20260415T182152Z
LAST-MODIFIED:20260415T182152Z
UID:10000874-1777377600-1777383000@www.itecanada.org
SUMMARY:ITE Manitoba Section Luncheon: Winnipeg's Leading Pedestrian Interval (LPI) Program - April 2026
DESCRIPTION:Join the ITE Manitoba Section for their Luncheon on Tuesday\, April 28\, 2026 at Bill and Helen Norrie Library! \nSteve Wood from the City of Winnipeg will be presenting. Lunch will be provided. \nEvent Details\nDate:    Tuesday\, April 28\, 2026\nTime:   12:00pm to 1:30 pm CST\nLocation: Bill and Helen Norrie Library\, 15 Poseidon Bay\, Winnipeg\, MB R3M 3E4 \nCost:  \n\n$22 for ITE members\n$27 for non-ITE members\n$15 for students\n\n**Registration will close on Friday\, April 24\, at 3 pm.** \nPlease note\, to register for the reduced ITE member rate\, your ITE membership should be valid for 2026. \nFood: Shawarma wraps from Daanook will be provided. Please let us know your wrap preference and if you have any dietary restrictions. \nPresentation Details\nTitle: Winnipeg’s Leading Pedestrian Interval Program \nSteve will talk about the history and progress of the leading pedestrian interval (LPI) program in Winnipeg. Having both planned for LPIs from a road safety standpoint and installed them onto traffic signal timing equipment\, Steve has several different perspectives to share about the LPI program. \nSpeaker: Steve Wood\, M.Sc.\, P.Eng. \nSteve Wood is a Transportation Planning Engineer at the City of Winnipeg with 12 years of experience. After working at MORR Transportation Consulting\, he joined the City in 2020 and has held positions in the Traffic Signals and Road Safety Branches. He specializes in traffic operations and traffic data management.
URL:https://www.itecanada.org/event/ite-manitoba-section-luncheon-april-2026/
LOCATION:Bill and Helen Norrie Library\, 15 Poseidon Bay\, Winnipeg\, Manitoba\, R3M 3E4\, Canada
CATEGORIES:Luncheon
ORGANIZER;CN="ITE Manitoba Section":MAILTO:secretary@manitoba.itecanada.org
END:VEVENT
END:VCALENDAR