BEGIN:VCALENDAR
VERSION:2.0
PRODID:-//ITE Canada - ECPv6.15.20//NONSGML v1.0//EN
CALSCALE:GREGORIAN
METHOD:PUBLISH
X-ORIGINAL-URL:https://www.itecanada.org
X-WR-CALDESC:Events for ITE Canada
REFRESH-INTERVAL;VALUE=DURATION:PT1H
X-Robots-Tag:noindex
X-PUBLISHED-TTL:PT1H
BEGIN:VTIMEZONE
TZID:America/Winnipeg
BEGIN:DAYLIGHT
TZOFFSETFROM:-0600
TZOFFSETTO:-0500
TZNAME:CDT
DTSTART:20230312T080000
END:DAYLIGHT
BEGIN:STANDARD
TZOFFSETFROM:-0500
TZOFFSETTO:-0600
TZNAME:CST
DTSTART:20231105T070000
END:STANDARD
BEGIN:DAYLIGHT
TZOFFSETFROM:-0600
TZOFFSETTO:-0500
TZNAME:CDT
DTSTART:20240310T080000
END:DAYLIGHT
BEGIN:STANDARD
TZOFFSETFROM:-0500
TZOFFSETTO:-0600
TZNAME:CST
DTSTART:20241103T070000
END:STANDARD
BEGIN:DAYLIGHT
TZOFFSETFROM:-0600
TZOFFSETTO:-0500
TZNAME:CDT
DTSTART:20250309T080000
END:DAYLIGHT
BEGIN:STANDARD
TZOFFSETFROM:-0500
TZOFFSETTO:-0600
TZNAME:CST
DTSTART:20251102T070000
END:STANDARD
BEGIN:DAYLIGHT
TZOFFSETFROM:-0600
TZOFFSETTO:-0500
TZNAME:CDT
DTSTART:20260308T080000
END:DAYLIGHT
BEGIN:STANDARD
TZOFFSETFROM:-0500
TZOFFSETTO:-0600
TZNAME:CST
DTSTART:20261101T070000
END:STANDARD
END:VTIMEZONE
BEGIN:VEVENT
DTSTART;TZID=America/Winnipeg:20250326T160000
DTEND;TZID=America/Winnipeg:20250326T180000
DTSTAMP:20260421T070525
CREATED:20250228T172216Z
LAST-MODIFIED:20250228T172913Z
UID:10000749-1743004800-1743012000@www.itecanada.org
SUMMARY:ITE Manitoba: Student Presentation Competition
DESCRIPTION:ITE Manitoba is hosting our annual Kean Lew Memorial Student Presentation Competition on Wednesday\, March 26\, from 4 to 6 pm at the University of Manitoba! \n  \nIn an effort to encourage more student participation we’ve made some exciting changes to the competition this year: \n\nWe’re switching to a presentation-only format competition (in previous years\, the competition included both a paper and a presentation)\nWe’re opening up the competition event to other students and professionals\, giving participants the opportunity to showcase their transportation projects and shine bright among peers and transportation professionals\n\nCompetition Details\nThe competition is designed to spark interest in the field of transportation and give students the opportunity to deliver a presentation on a transportation project to both their peers and industry professionals. The event will feature up to five 15-minute presentations\, each followed by a short question period\, and some time to network following the presentations. \nPresentations will be evaluated by volunteer judges at the competition. Prizes will be awarded to the presenters of the three top presentations based on the presentation evaluation criteria. The prizes are: \n\nFirst prize: $300 (plus entry to ITE Canada Student Presentation Competition)\nSecond prize: $150\nThird prize: $75\n\nIf you are interested in presenting or judging the competition\, or have any questions please reach out to Karalee Bloch at Karalee.L.Townsend@gmail.com for more information (including eligibility and evaluation criteria). The deadline to express interest is March 18. Students will be notified by March 19 if their presentation has been selected for the competition. \nWe look forward to your involvement and to witnessing the innovative projects our student community has to share! \nEvent Details\nDate: Wednesday March 26\, 2025 \nTime: 4 to 6 p.m. \nLocation: University of Manitoba Engineering and Information Technology Complex (EITC)\, 75 Chancellors Circle\, Room E2-330 \nPresentation Topic: Transportation projects (engineering or planning) \nCost: $0 for ITE members\, non-members\, and students \n 
URL:https://www.itecanada.org/event/ite-manitoba-student-presentation-competition/
LOCATION:Engineering and Information Technology Complex\, University of Manitoba\, Room E2-330\, 75 Chancellors Cir\, Winnipeg\, Manitoba\, R3T 5V6\, Canada
CATEGORIES:Competition,Presentation,Student
ORGANIZER;CN="ITE Manitoba Section":MAILTO:secretary@manitoba.itecanada.org
GEO:49.808832;-97.133757
X-APPLE-STRUCTURED-LOCATION;VALUE=URI;X-ADDRESS=Engineering and Information Technology Complex University of Manitoba Room E2-330 75 Chancellors Cir Winnipeg Manitoba R3T 5V6 Canada;X-APPLE-RADIUS=500;X-TITLE=Room E2-330\, 75 Chancellors Cir:geo:-97.133757,49.808832
END:VEVENT
BEGIN:VEVENT
DTSTART;TZID=America/Winnipeg:20240327T114500
DTEND;TZID=America/Winnipeg:20240327T133000
DTSTAMP:20260421T070525
CREATED:20240315T160700Z
LAST-MODIFIED:20240325T151536Z
UID:10000657-1711539900-1711546200@www.itecanada.org
SUMMARY:ITE Manitoba: March Luncheon
DESCRIPTION:ITE Manitoba will hold its March luncheon on Wednesday March 27\, from 11:45 am to 1:15 pm (CDT) at the University of Manitoba Engineering & Information Technology Complex (EITC). \nLocation: University of Manitoba Fort Garry Campus\, Engineering & Information Technology Complex (EITC)\, 75 Chancellors Circle\, Room E2-229 (see map)\nCost: $20 for non-ITE members\, $15 for ITE members\, $10 for students (tax included)\nGetting there: Parking is available for a fee\, parking info including lot locations and prices can be found here. There are over a dozen Winnipeg Transit routes that service the Fort Garry Campus. \n  \nPresentation: Peg City Car Co-Op \nPhilip Mikulec\, CEO of Peg City Car Co-Op will be presenting on various aspects of the carsharing program. \n  \nThe registration deadline has been extended to 12 noon CDT on Sunday\, March 24. We will do our best to accommodate tickets purchased after this deadline\, but for reasons outside of our control they may not be accommodated.
URL:https://www.itecanada.org/event/ite-manitoba-march-luncheon/
LOCATION:Engineering and Information Technology Complex\, University of Manitoba\, Room E2-330\, 75 Chancellors Cir\, Winnipeg\, Manitoba\, R3T 5V6\, Canada
CATEGORIES:Luncheon
ORGANIZER;CN="ITE Manitoba Section":MAILTO:secretary@manitoba.itecanada.org
GEO:49.808832;-97.133757
X-APPLE-STRUCTURED-LOCATION;VALUE=URI;X-ADDRESS=Engineering and Information Technology Complex University of Manitoba Room E2-330 75 Chancellors Cir Winnipeg Manitoba R3T 5V6 Canada;X-APPLE-RADIUS=500;X-TITLE=Room E2-330\, 75 Chancellors Cir:geo:-97.133757,49.808832
END:VEVENT
END:VCALENDAR