BEGIN:VCALENDAR
VERSION:2.0
PRODID:-//ITE Canada - ECPv6.15.20//NONSGML v1.0//EN
CALSCALE:GREGORIAN
METHOD:PUBLISH
X-ORIGINAL-URL:https://www.itecanada.org
X-WR-CALDESC:Events for ITE Canada
REFRESH-INTERVAL;VALUE=DURATION:PT1H
X-Robots-Tag:noindex
X-PUBLISHED-TTL:PT1H
BEGIN:VTIMEZONE
TZID:America/Regina
BEGIN:STANDARD
TZOFFSETFROM:-0600
TZOFFSETTO:-0600
TZNAME:CST
DTSTART:20240101T000000
END:STANDARD
END:VTIMEZONE
BEGIN:VEVENT
DTSTART;TZID=America/Regina:20250515T100000
DTEND;TZID=America/Regina:20250515T150000
DTSTAMP:20260421T115746
CREATED:20250430T204312Z
LAST-MODIFIED:20250507T165352Z
UID:10000767-1747303200-1747321200@www.itecanada.org
SUMMARY:ITE Saskatchewan: Spring Session - May 15\, 2025
DESCRIPTION:Ticket sales for this event close on May 12 at 17:00. If you wish to purchase a ticket after this date please contact Sheliza at president@saskatchewan.itecanada.org. \nYour ITE Saskatchewan Executive is actively planning our 2025 Spring Session. Please join us for this opportunity to network and learn with your fellow transportation professionals. Lunch will be provided. \nWhen:   May 15\, 2025\, 10:00 am to 3:00 pm \nWhere:  Hotel Saskatchewan Autograph – Oak Room\, 2125 Victoria Ave.\, Regina\, SK S4P 0S3 \nAgenda: \nJoin us as we take a guided walking tour down Scarth Street. A City of Regina representative will explain the Vision and Concept Plan developed for the space and the City’s final recommendation to keep this road for pedestrians only. \nIn addition to the Scarth Street Mall Walking Tour with Kim Sare (City of Regina) we have the following presentations: \n\nVision Zero Road Safety Framework – Derrick Scott\, City of Regina\n22nd Street West Traffic Signal Coordination – Jon Medori and David Booker\, Associated Engineering\nStudent presentations from Jessica Lam and Olha Khrebtishcheva\, University of Saskatchewan\n\nTickets: \n\nITE Members & Interns: $100\nNon-ITE Members: $130\nStudents (actively taking classes): $10\n\nPlease list any dietary restrictions when you purchase your ticket\, so we can accommodate you as best as possible. \nPlease contact programsdirector@saskatchewan.itecanada.org if you have any questions about this event.
URL:https://www.itecanada.org/event/ite-saskatchewan-spring-session-may-15-2025/
LOCATION:Hotel Saskatchewan Autograph – Oak Room\, 2125 Victoria Ave.\, Regina\, SK S4P 0S3\, 2125 Victoria Ave.\, Regina\, Saskatchewan\, SK S4P 0S3\, Canada
CATEGORIES:Mixer,Social
ORGANIZER;CN="ITE Saskatchewan Section":MAILTO:saskatchewan@itecanada.org
GEO:50.4468849;-104.6114894
X-APPLE-STRUCTURED-LOCATION;VALUE=URI;X-ADDRESS=Hotel Saskatchewan Autograph – Oak Room 2125 Victoria Ave. Regina SK S4P 0S3 2125 Victoria Ave. Regina Saskatchewan SK S4P 0S3 Canada;X-APPLE-RADIUS=500;X-TITLE=2125 Victoria Ave.:geo:-104.6114894,50.4468849
END:VEVENT
END:VCALENDAR