BEGIN:VCALENDAR
VERSION:2.0
PRODID:-//ITE Canada - ECPv6.15.20//NONSGML v1.0//EN
CALSCALE:GREGORIAN
METHOD:PUBLISH
X-ORIGINAL-URL:https://www.itecanada.org
X-WR-CALDESC:Events for ITE Canada
REFRESH-INTERVAL;VALUE=DURATION:PT1H
X-Robots-Tag:noindex
X-PUBLISHED-TTL:PT1H
BEGIN:VTIMEZONE
TZID:America/Toronto
BEGIN:DAYLIGHT
TZOFFSETFROM:-0500
TZOFFSETTO:-0400
TZNAME:EDT
DTSTART:20240310T070000
END:DAYLIGHT
BEGIN:STANDARD
TZOFFSETFROM:-0400
TZOFFSETTO:-0500
TZNAME:EST
DTSTART:20241103T060000
END:STANDARD
BEGIN:DAYLIGHT
TZOFFSETFROM:-0500
TZOFFSETTO:-0400
TZNAME:EDT
DTSTART:20250309T070000
END:DAYLIGHT
BEGIN:STANDARD
TZOFFSETFROM:-0400
TZOFFSETTO:-0500
TZNAME:EST
DTSTART:20251102T060000
END:STANDARD
BEGIN:DAYLIGHT
TZOFFSETFROM:-0500
TZOFFSETTO:-0400
TZNAME:EDT
DTSTART:20260308T070000
END:DAYLIGHT
BEGIN:STANDARD
TZOFFSETFROM:-0400
TZOFFSETTO:-0500
TZNAME:EST
DTSTART:20261101T060000
END:STANDARD
END:VTIMEZONE
BEGIN:VEVENT
DTSTART;TZID=America/Toronto:20251219T120000
DTEND;TZID=America/Toronto:20251219T133000
DTSTAMP:20260422T204235
CREATED:20251203T155640Z
LAST-MODIFIED:20251218T193451Z
UID:10000840-1766145600-1766151000@www.itecanada.org
SUMMARY:ITE National Capital Section: 2025 Annual General Meeting
DESCRIPTION:  \n\nThe ITE National Capital Section would like to invite you to our Annual General Meeting (AGM)! \nThe AGM will close-out our activities for 2025 with a year-end review of the 2025 Annual Report and assignment of our 2026 Executive committee. \n\nDATE: December 19\, 2025 \nTIME: **UPDATED TO 12:00 PM START** – 1:30 PM \nLOCATION: Milestones Grill & Bar\, Lansdowne Park\, Ottawa\, ON \nSee other details and agenda in the poster above. Note that lunch is not included in your RSVP. \n==Admission is free but registration is required==
URL:https://www.itecanada.org/event/ite-national-capital-section-2025-annual-general-meeting/
LOCATION:Milestones Grill – Ottawa\, 325 Marché Way\, Ottawa\, Ontario\, Canada
CATEGORIES:AGM,Luncheon
ORGANIZER;CN="ITE National Capital Section":MAILTO:nationalcapital@itecanada.org
GEO:45.400646;-75.683835
X-APPLE-STRUCTURED-LOCATION;VALUE=URI;X-ADDRESS=DESCRIPTION:  \n\nThe ITE National Capital Section would like to invite you to our Annual General Meeting (AGM)! \nThe AGM will close-out our activities for 2025 with a year-end review of the 2025 Annual Report and assignment of our 2026 Executive committee. \n\nDATE: December 19 2025 \nTIME: **UPDATED TO 12:00 PM START** – 1:30 PM \n Milestones Grill & Bar Lansdowne Park Ottawa ON \nSee other details and agenda in the poster above. Note that lunch is not included in your RSVP. \n==Admission is free but registration is required==;X-APPLE-RADIUS=500;X-TITLE=325 Marché Way:geo:-75.683835,45.400646
END:VEVENT
BEGIN:VEVENT
DTSTART;TZID=America/Toronto:20250117T113000
DTEND;TZID=America/Toronto:20250117T133000
DTSTAMP:20260422T204235
CREATED:20241223T224644Z
LAST-MODIFIED:20251030T141114Z
UID:10000735-1737113400-1737120600@www.itecanada.org
SUMMARY:ITE National Capital: 2024 Annual General Meeting
DESCRIPTION:The ITE National Capital Section would like to invite you to our Annual General Meeting (AGM)! The AGM will close-out our activities for 2024 with a year-end review of the 2024 Annual Report and assignment of our 2025 Executive committee.
URL:https://www.itecanada.org/event/ite-national-capital-2024-annual-general-meeting/
LOCATION:Milestones Grill – Ottawa\, 325 Marché Way\, Ottawa\, Ontario\, Canada
CATEGORIES:AGM
ATTACH;FMTTYPE=image/png:https://www.itecanada.org/wp-content/uploads/2024/12/2024-AGM-v2-e1734993976790.png
ORGANIZER;CN="ITE National Capital Section":MAILTO:nationalcapital@itecanada.org
GEO:45.400646;-75.683835
X-APPLE-STRUCTURED-LOCATION;VALUE=URI;X-ADDRESS=Milestones Grill – Ottawa 325 Marché Way Ottawa Ontario Canada;X-APPLE-RADIUS=500;X-TITLE=325 Marché Way:geo:-75.683835,45.400646
END:VEVENT
END:VCALENDAR