BEGIN:VCALENDAR
VERSION:2.0
PRODID:-//ITE Canada - ECPv6.15.20//NONSGML v1.0//EN
CALSCALE:GREGORIAN
METHOD:PUBLISH
X-ORIGINAL-URL:https://www.itecanada.org
X-WR-CALDESC:Events for ITE Canada
REFRESH-INTERVAL;VALUE=DURATION:PT1H
X-Robots-Tag:noindex
X-PUBLISHED-TTL:PT1H
BEGIN:VTIMEZONE
TZID:America/Toronto
BEGIN:DAYLIGHT
TZOFFSETFROM:-0500
TZOFFSETTO:-0400
TZNAME:EDT
DTSTART:20250309T070000
END:DAYLIGHT
BEGIN:STANDARD
TZOFFSETFROM:-0400
TZOFFSETTO:-0500
TZNAME:EST
DTSTART:20251102T060000
END:STANDARD
BEGIN:DAYLIGHT
TZOFFSETFROM:-0500
TZOFFSETTO:-0400
TZNAME:EDT
DTSTART:20260308T070000
END:DAYLIGHT
BEGIN:STANDARD
TZOFFSETFROM:-0400
TZOFFSETTO:-0500
TZNAME:EST
DTSTART:20261101T060000
END:STANDARD
BEGIN:DAYLIGHT
TZOFFSETFROM:-0500
TZOFFSETTO:-0400
TZNAME:EDT
DTSTART:20270314T070000
END:DAYLIGHT
BEGIN:STANDARD
TZOFFSETFROM:-0400
TZOFFSETTO:-0500
TZNAME:EST
DTSTART:20271107T060000
END:STANDARD
END:VTIMEZONE
BEGIN:VEVENT
DTSTART;TZID=America/Toronto:20260324T180000
DTEND;TZID=America/Toronto:20260324T210000
DTSTAMP:20260424T014014
CREATED:20260304T164208Z
LAST-MODIFIED:20260316T180450Z
UID:10000858-1774375200-1774386000@www.itecanada.org
SUMMARY:ITE Southwestern Ontario – Trivia Night in Waterloo – March 2026
DESCRIPTION:ITE Southwestern Ontario Section is hosting a transportation-themed trivia night in Waterloo for students and professionals in transportation engineering and planning. Join us for a fun and engaging evening of trivia\, networking\, and socializing with peers from across the region. \nDate: Tuesday\, March 24\, 2026\nTime: 6 – 9 PM EDT\nLocation: Morty’s Pub\, 272 King St N\, Waterloo\, ON N2J 2Y9 \nWhat to Expect\nEnjoy a relaxed and interactive evening featuring team-based transportation trivia. Whether you’re a post-secondary student or an experienced professional\, this is a great opportunity to test your knowledge\, meet others in the field\, and enjoy a night out. \nAge & Beverage Policy\nThis event is open to attendees of all ages. Please note that bartenders will check valid ID for all alcoholic beverage orders. \nSchedule\n\n6:00 – 6:30 PM: Check-in & team formation\n6:30 – 8:00 PM: Trivia rounds (with one intermission)\n8:00 – 9:00 PM: Networking & socializing\n\nFood\nAppetizers will be provided and are included in your ticket price. Any additional food or beverages (alcoholic or non-alcoholic) are at the attendee’s expense. Please note any dietary requirements during registration. \nPricing\n\nStudents: $10\nITE Members: $20\nITE Non-Members: $30\n\nTicket sales end March 21 at 9:00PM. \nQuestions?\nPlease contact southwestontario@itecanada.org with any inquiries.
URL:https://www.itecanada.org/event/ite-swo-trivia-night-waterloo-march-2026/
LOCATION:Morty’s Pub\, 272 King Street North\, Waterloo\, Ontario\, N2J 2Y9\, Canada
CATEGORIES:Competition,Mixer,Social,Student
ATTACH;FMTTYPE=image/png:https://www.itecanada.org/wp-content/uploads/2026/02/Waterloo-Trivia-Night-Header.png
ORGANIZER;CN="ITE Southwestern Ontario":MAILTO:southwesternontario@itecanada.org
GEO:43.4777164;-80.5248836
X-APPLE-STRUCTURED-LOCATION;VALUE=URI;X-ADDRESS=Morty’s Pub 272 King Street North Waterloo Ontario N2J 2Y9 Canada;X-APPLE-RADIUS=500;X-TITLE=272 King Street North:geo:-80.5248836,43.4777164
END:VEVENT
END:VCALENDAR