BEGIN:VCALENDAR
VERSION:2.0
PRODID:-//ITE Canada - ECPv6.15.20//NONSGML v1.0//EN
CALSCALE:GREGORIAN
METHOD:PUBLISH
X-ORIGINAL-URL:https://www.itecanada.org
X-WR-CALDESC:Events for ITE Canada
REFRESH-INTERVAL;VALUE=DURATION:PT1H
X-Robots-Tag:noindex
X-PUBLISHED-TTL:PT1H
BEGIN:VTIMEZONE
TZID:America/Winnipeg
BEGIN:DAYLIGHT
TZOFFSETFROM:-0600
TZOFFSETTO:-0500
TZNAME:CDT
DTSTART:20240310T080000
END:DAYLIGHT
BEGIN:STANDARD
TZOFFSETFROM:-0500
TZOFFSETTO:-0600
TZNAME:CST
DTSTART:20241103T070000
END:STANDARD
BEGIN:DAYLIGHT
TZOFFSETFROM:-0600
TZOFFSETTO:-0500
TZNAME:CDT
DTSTART:20250309T080000
END:DAYLIGHT
BEGIN:STANDARD
TZOFFSETFROM:-0500
TZOFFSETTO:-0600
TZNAME:CST
DTSTART:20251102T070000
END:STANDARD
BEGIN:DAYLIGHT
TZOFFSETFROM:-0600
TZOFFSETTO:-0500
TZNAME:CDT
DTSTART:20260308T080000
END:DAYLIGHT
BEGIN:STANDARD
TZOFFSETFROM:-0500
TZOFFSETTO:-0600
TZNAME:CST
DTSTART:20261101T070000
END:STANDARD
END:VTIMEZONE
BEGIN:VEVENT
DTSTART;TZID=America/Winnipeg:20251216T120000
DTEND;TZID=America/Winnipeg:20251216T140000
DTSTAMP:20260421T124352
CREATED:20251202T215650Z
LAST-MODIFIED:20251202T215650Z
UID:10000839-1765886400-1765893600@www.itecanada.org
SUMMARY:ITE Manitoba Section: Luncheon & AGM - December 2025
DESCRIPTION:Join the ITE Manitoba Section for their Luncheon on Tuesday\, December 16\, 2025 at Trans Canada Brewing! \nDenae Penner and Amanda Pushka from the City of Winnipeg’s Road Safety Branch will be presenting. Lunch will be provided. \nEvent Details\nDate:    Tuesday\, December 16\, 2025\nTime:   12:00pm to 1:45 pm CST\nLocation: Trans Canada Brewing\, 1-1290 Kenaston Blvd\, Winnipeg\, MB R3P 2H8 \nCost:  \n\n$30 for non-ITE members\n$25 for ITE members\n $15 for students\n\n**Registration will close on Tuesday\, December 9\, at 3pm.** \nPlease note\, to register for the reduced ITE member rate\, your ITE membership should be valid for 2025. \nFood: Catering will be provided by the TCB Kitchen! Please let us know in your registration if you have any dietary restrictions. \nPresentation Details\nTitle: Traffic Calming (TCB) Curbs; A Pilot Story \nSpeakers: Amanda Pushka\, P. Eng\, and Denae Penner \nAmanda Pushka is Road Safety Engineer and certified Road Safety Professional with nine years of experience in transportation engineering. She brings international expertise in conducting road safety audits and developing active transportation designs\, applying a Safe System approach to assess road user risk and recommend targeted safety countermeasures. At the City of Winnipeg\, Amanda leads the implementation of the city’s Road Safety Strategic Action Plan.\n\nDenae Penner is a road safety professional specializing in public engagement\, education\, and outreach. Denae works at the City of Winnipeg as a Road Safety Outreach Coordinator. Throughout her career\, Denae has applied community development approaches to a range of projects to enhance access and equity within transportation systems. Her goal is to help build a city where people of all ages\, genders and abilities can get where they want to go\, and do it safely.
URL:https://www.itecanada.org/event/ite-manitoba-section-luncheon-agm-december-2025/
LOCATION:Trans Canada Brewing\, 1290 Kenaston Blvd #1\, Winnipeg\, Manitoba\, R3P 2H8\, Canada
CATEGORIES:AGM,Luncheon
ORGANIZER;CN="ITE Manitoba Section":MAILTO:secretary@manitoba.itecanada.org
END:VEVENT
END:VCALENDAR