BEGIN:VCALENDAR
VERSION:2.0
PRODID:-//ITE Canada - ECPv6.15.20//NONSGML v1.0//EN
CALSCALE:GREGORIAN
METHOD:PUBLISH
X-ORIGINAL-URL:https://www.itecanada.org
X-WR-CALDESC:Events for ITE Canada
REFRESH-INTERVAL;VALUE=DURATION:PT1H
X-Robots-Tag:noindex
X-PUBLISHED-TTL:PT1H
BEGIN:VTIMEZONE
TZID:America/Edmonton
BEGIN:DAYLIGHT
TZOFFSETFROM:-0700
TZOFFSETTO:-0600
TZNAME:MDT
DTSTART:20240310T090000
END:DAYLIGHT
BEGIN:STANDARD
TZOFFSETFROM:-0600
TZOFFSETTO:-0700
TZNAME:MST
DTSTART:20241103T080000
END:STANDARD
BEGIN:DAYLIGHT
TZOFFSETFROM:-0700
TZOFFSETTO:-0600
TZNAME:MDT
DTSTART:20250309T090000
END:DAYLIGHT
BEGIN:STANDARD
TZOFFSETFROM:-0600
TZOFFSETTO:-0700
TZNAME:MST
DTSTART:20251102T080000
END:STANDARD
BEGIN:DAYLIGHT
TZOFFSETFROM:-0700
TZOFFSETTO:-0600
TZNAME:MDT
DTSTART:20260308T090000
END:DAYLIGHT
BEGIN:STANDARD
TZOFFSETFROM:-0600
TZOFFSETTO:-0700
TZNAME:MST
DTSTART:20261101T080000
END:STANDARD
BEGIN:DAYLIGHT
TZOFFSETFROM:-0700
TZOFFSETTO:-0600
TZNAME:MDT
DTSTART:20270314T090000
END:DAYLIGHT
BEGIN:STANDARD
TZOFFSETFROM:-0600
TZOFFSETTO:-0700
TZNAME:MST
DTSTART:20271107T080000
END:STANDARD
END:VTIMEZONE
BEGIN:VEVENT
DTSTART;TZID=America/Edmonton:20260416T170000
DTEND;TZID=America/Edmonton:20260416T190000
DTSTAMP:20260421T070957
CREATED:20260406T142908Z
LAST-MODIFIED:20260406T142908Z
UID:10000869-1776358800-1776366000@www.itecanada.org
SUMMARY:ITE Southern Alberta Pub Social – April 2026
DESCRIPTION:Join us for the ITE Southern Alberta Pub Social\, our signature community‑building event designed to bring Calgary’s transportation professionals together in a fun\, relaxed setting. Whether you’re a long‑time member\, a student exploring the field\, or a new professional looking to grow your network\, this is the perfect place to connect. \nDate: Thursday\, April 16\, 2026 \nTime: 5 pm to 7 pm \nLocation: Trolley 5 Brewpub at 728 17 Ave SW\, Calgary\, AB T2S 0B7 \n== Registration closes Tuesday\, April 14 at 5 pm == \nWhat to Expect \nJoin us on April 16th\, 2026 for appetizers and networking with transportation professionals and students! Event cost includes one drink ticket. \nExpect great conversations\, a welcoming atmosphere\, and the chance to meet people from across the region’s transportation community. Summer students and emerging professionals will find an especially supportive environment to ask questions\, exchange ideas\, and build meaningful relationships with practitioners from both public and private sectors. \nCome for the networking\, stay for the energy – everyone is welcome!!!
URL:https://www.itecanada.org/event/ite-southern-alberta-pub-social-april-2026/
LOCATION:Trolley 5 Brewpub\, 728 17 Ave SW\, Calgary\, Alberta\, T2S 0B7\, Canada
CATEGORIES:Mixer,Social
ORGANIZER;CN="ITE Southern Alberta Section":MAILTO:southernalberta@itecanada.org
GEO:51.0463832;-114.0820407
X-APPLE-STRUCTURED-LOCATION;VALUE=URI;X-ADDRESS=Trolley 5 Brewpub 728 17 Ave SW Calgary Alberta T2S 0B7 Canada;X-APPLE-RADIUS=500;X-TITLE=728 17 Ave SW:geo:-114.0820407,51.0463832
END:VEVENT
BEGIN:VEVENT
DTSTART;TZID=America/Edmonton:20260326T113000
DTEND;TZID=America/Edmonton:20260326T130000
DTSTAMP:20260421T070957
CREATED:20260312T193536Z
LAST-MODIFIED:20260320T174908Z
UID:10000862-1774524600-1774530000@www.itecanada.org
SUMMARY:ITE SA Student Presentation Competition Event
DESCRIPTION:Join us at the University of Calgary Downtown Campus for an engaging student presentation event\, hosted by ITE Southern Alberta in partnership with the University of Calgary Student Chapter of ITE. \nDate: Thursday\, March 26\, 2026 \nTime: 11:30 am to 1:00 pm \nLocation: University of Calgary Downtown Campus\, 906-8th Avenue – Room DTC 426 \n== Registration closes Tuesday\, March 24 == \nWhat to Expect \n\nA light lunch of sandwiches and light refreshments will be provided for all attendees.\nPoster presentations will be conducted throughout the lunch hour with networking throughout.\nThe winner will be announced at 12:50pm.\n\nWe invite industry professionals to participate in voting for the best student poster from the ITE Southern Alberta Section. \nThe winner of this competition will be nominated to ITE Canada\, who will select the recipient of the Student Presentation Competition Award by a random draw. The drawn winner of the ITE Canada award will receive complimentary registration for the annual ITE Canada conference (in the year of the award)\, travel reimbursement (up to $1\,000 for those outside the conference region or up to $100 for those within)\, and recognition at the Annual Awards Luncheon. \nRegardless of the ITE Canada draw\, the winner of this ITE Southern Alberta will receive sponsorship to attend the ITE Canada conference (in the year of the award) from the proceeds of the local event. \nStudent registration: \n\nIf you would like to participate in the competition\, contact Dr. Jacob Lamb to register\nIf you would like to attend the event but not compete\, you can claim a student ticket below
URL:https://www.itecanada.org/event/ite-sa-student-presentation-competition-2026/
LOCATION:Trolley 5 Brewpub\, 728 17 Ave SW\, Calgary\, Alberta\, T2S 0B7\, Canada
CATEGORIES:Competition,Luncheon
ORGANIZER;CN="ITE Southern Alberta Section":MAILTO:southernalberta@itecanada.org
GEO:51.0463832;-114.0820407
X-APPLE-STRUCTURED-LOCATION;VALUE=URI;X-ADDRESS=Trolley 5 Brewpub 728 17 Ave SW Calgary Alberta T2S 0B7 Canada;X-APPLE-RADIUS=500;X-TITLE=728 17 Ave SW:geo:-114.0820407,51.0463832
END:VEVENT
BEGIN:VEVENT
DTSTART;TZID=America/Edmonton:20250319T113000
DTEND;TZID=America/Edmonton:20250319T130000
DTSTAMP:20260421T070957
CREATED:20250306T174615Z
LAST-MODIFIED:20250312T210348Z
UID:10000751-1742383800-1742389200@www.itecanada.org
SUMMARY:ITE SA Student Presentation Competition Event
DESCRIPTION:Join us at the University of Calgary Downtown Campus for an engaging student project presentation event\, hosted by ITE Southern Alberta in partnership with the University of Calgary Student Chapter of ITE. \nThe winner of this competition will advance to the next round\, where ITE Canada will select the recipient of the Student Presentation Competition Award. The winner will receive complimentary registration for the annual ITE Canada conference (in the year of the award)\, travel reimbursement (up to $1\,000 for those outside the conference region or up to $100 for those within)\, and recognition at the Annual Awards Luncheon. \nWe also invite industry professionals to participate in voting for the best student poster from the ITE Southern Alberta Section.
URL:https://www.itecanada.org/event/ite-sa-student-presentation-competition-event/
LOCATION:Trolley 5 Brewpub\, 728 17 Ave SW\, Calgary\, Alberta\, T2S 0B7\, Canada
CATEGORIES:Competition,Luncheon
ORGANIZER;CN="ITE Southern Alberta Section":MAILTO:southernalberta@itecanada.org
GEO:51.0463832;-114.0820407
X-APPLE-STRUCTURED-LOCATION;VALUE=URI;X-ADDRESS=Trolley 5 Brewpub 728 17 Ave SW Calgary Alberta T2S 0B7 Canada;X-APPLE-RADIUS=500;X-TITLE=728 17 Ave SW:geo:-114.0820407,51.0463832
END:VEVENT
END:VCALENDAR